Workbook
Name Anno: 'Impostazioni calendario'!$F$6
Name BoolD: IF(April!VarD>48,1,0)
Name BoolD: IF(August!VarD>48,1,0)
Name BoolD: IF(December!VarD>48,1,0)
Name BoolD: IF(February!VarD>48,1,0)
Name BoolD: IF(January!VarD>48,1,0)
Name BoolD: IF(July!VarD>48,1,0)
Name BoolD: IF(June!VarD>48,1,0)
Name BoolD: IF(March!VarD>48,1,0)
Name BoolD: IF(May!VarD>48,1,0)
Name BoolD: IF(November!VarD>48,1,0)
Name BoolD: IF(October!VarD>48,1,0)
Name BoolD: IF(September!VarD>48,1,0)
Name BoolD: IF(VarD>48,1,0)
Name Festivita: 'Impostazioni calendario'!$J$11:$J$26
Name FestivitaS: 'Impostazioni calendario'!$L$11:$L$12
Name Pasqua: DATE(Anno,3,1) + (April!VarD + April!BoolD + 6 -(MOD((Anno + INT(Anno/4) + April!VarD + April!BoolD + 1),7)))
Name Pasqua: DATE(Anno,3,1) + (August!VarD + August!BoolD + 6 -(MOD((Anno + INT(Anno/4) + August!VarD + August!BoolD + 1),7)))
Name Pasqua: DATE(Anno,3,1) + (December!VarD + December!BoolD + 6 -(MOD((Anno + INT(Anno/4) + December!VarD + December!BoolD + 1),7)))
Name Pasqua: DATE(Anno,3,1) + (February!VarD + February!BoolD + 6 -(MOD((Anno + INT(Anno/4) + February!VarD + February!BoolD + 1),7)))
Name Pasqua: DATE(Anno,3,1) + (January!VarD + January!BoolD + 6 -(MOD((Anno + INT(Anno/4) + January!VarD + January!BoolD + 1),7)))
Name Pasqua: DATE(Anno,3,1) + (July!VarD + July!BoolD + 6 -(MOD((Anno + INT(Anno/4) + July!VarD + July!BoolD + 1),7)))
Name Pasqua: DATE(Anno,3,1) + (June!VarD + June!BoolD + 6 -(MOD((Anno + INT(Anno/4) + June!VarD + June!BoolD + 1),7)))
Name Pasqua: DATE(Anno,3,1) + (March!VarD + March!BoolD + 6 -(MOD((Anno + INT(Anno/4) + March!VarD + March!BoolD + 1),7)))
Name Pasqua: DATE(Anno,3,1) + (May!VarD + May!BoolD + 6 -(MOD((Anno + INT(Anno/4) + May!VarD + May!BoolD + 1),7)))
Name Pasqua: DATE(Anno,3,1) + (November!VarD + November!BoolD + 6 -(MOD((Anno + INT(Anno/4) + November!VarD + November!BoolD + 1),7)))
Name Pasqua: DATE(Anno,3,1) + (October!VarD + October!BoolD + 6 -(MOD((Anno + INT(Anno/4) + October!VarD + October!BoolD + 1),7)))
Name Pasqua: DATE(Anno,3,1) + (September!VarD + September!BoolD + 6 -(MOD((Anno + INT(Anno/4) + September!VarD + September!BoolD + 1),7)))
Name Pasqua: DATE(Anno,3,1) + (VarD + BoolD + 6 -(MOD((Anno + INT(Anno/4) + VarD + BoolD + 1),7)))
Name Patrono: 'Impostazioni calendario'!$J$12
Name settimana1_1: April!$B$10:$B$17
Name settimana1_1: August!$B$10:$B$17
Name settimana1_1: December!$B$10:$B$17
Name settimana1_1: February!$B$10:$B$17
Name settimana1_1: January!$B$10:$B$17
Name settimana1_1: July!$B$10:$B$17
Name settimana1_1: June!$B$10:$B$17
Name settimana1_1: March!$B$10:$B$17
Name settimana1_1: May!$B$10:$B$17
Name settimana1_1: November!$B$10:$B$17
Name settimana1_1: October!$B$10:$B$17
Name settimana1_1: September!$B$10:$B$17
Name settimana1_1: #REF!
Name settimana1_2: April!#REF!
Name settimana1_2: August!#REF!
Name settimana1_2: December!#REF!
Name settimana1_2: February!#REF!
Name settimana1_2: January!#REF!
Name settimana1_2: July!#REF!
Name settimana1_2: June!#REF!
Name settimana1_2: March!#REF!
Name settimana1_2: May!#REF!
Name settimana1_2: November!#REF!
Name settimana1_2: October!#REF!
Name settimana1_2: September!#REF!
Name settimana1_2: #REF!
Name settimana1_3: April!#REF!
Name settimana1_3: August!#REF!
Name settimana1_3: December!#REF!
Name settimana1_3: February!#REF!

Sheet Istruzioni per la compilazione
A1: TIMESHEET TEMPLATE - legenda
A3: Nei template devono essere compilati solo i campi in giallo - gli altri campi si autocompilano
A5: Foglio: impostazioni calendario
A6: Su questo foglio va inserito l'anno di riferimento
A8: Foglio riepilogo - timesheet
A9: Di questo foglio vanno compilati i seguenti campi:
A10: Full name of beneficiary | B10: si intende l'Ente (Università)/Dipartimento
A11: Full name of employee | B11: si intende il soggetto che lavora al progetto
A12: Full name of Supervisor | B12: si intende il Resp. Scientifico /Direttore dip.to
A13: Ruolo - Classe - Scatto - Tempo pieno/definito/part-time | B13: Inserire i propri dati desumibili dal cedolino stipendi
B14: Per Ass.ti - Bors.ti e Cococo non si devono inserire Classe - Scatto e Tempo pieno/definito
A15: Institutional Activity: | B15: ● Institutional research | C15: per il personale dedicato alla ricerca. Identifica la ricerca non collegata a specifici progetti finanziati
B16: ● Administrative activities | C16: per il personale TA é l'attività amministrativa ordinaria, non su progetti finanziati
A17: Project Title and Number | B17: inserire il titolo progetto (acronimo) e il numero del contratto, i dati verranno automaticamente ripetuti negli altri fogli
A19: WP number | B19: Inserire il numero dei Work Package sui quali è impegnato l'employee, desumibile dall'Annex I al grant agreement
A21: Note per la compilazione delle caselle riguardanti le ore non di ricerca:
A23: Teaching activities | B23: ore di insegnamento
A24: Institutional activities | B24: Consigli di Dipartimento, corso di studio, cons. di dottorato...
A25: Other activities | B25: Sessione di laurea, sessione di esami, ricevimento, correzione tesi, orientamento ....
A26: NB: per i docenti, il totale delle ore riferibili a compiti didattici e di servizio agli studenti, inclusi l'orientamento e il tutorato, nonche' ad attivita' di verifica dell'apprendimento deve esser almeno uguale al numero di ore previste dalla Legge 240 del 2010, art. 6 commi 2 e 3
A28: Per il calcolo del costo orario/costo per progetto
A30: Tabella Project Costs:
A31: Per i progetti di Horizon: se il dipendente è tempo definito/part-time inserire:
B32: Professori e ricercatori a tempo definito: 1228 ore nella casella della colonna "Annual productive hours" (al posto di 1720)
B33: Personale tecnico/amministrativo: nella casella della colonna "Full/part-time" la percentuale di part-time in decimi (es: part-time all'83%, 0,83 al posto di 1)
A35: NB: Il timesheet è la risultante di un importante numero di parametri; si consiglia pertanto di verificare sempre la correttezza dei dati inseriti e i risultati ottenuti
A37: ATTENZIONE | B37: Scrivere solo sui campi in giallo per evitare di cancellare le formule

Sheet Impostazioni calendario
B2: Impostazioni del calendario
B4: Inserire nella casella sottostante l'anno: | L4: Torna alla pagina delle istruzioni
B6: Anno | F6: 2021
B8: Inserire nelle caselle sottostanti il giorno e il mese in cui ricorrono le festività. Puoi anche modificare i nomi delle festività. Attenzione: il lunedi di Pasqua è calcolato automaticamente --> NON VA INSERITO!
F10: gg | H10: mm
B11: Capodanno | F11: 1 | G11: / | H11: 1 | J11: =IF(F11*H11>0,DATE(Anno,H11,F11),"") -> 44197 | L11: =IF(F11*H11>0,DATE((Anno+1),H11,F11),"") -> 44562
B12: Epifania | F12: 6 | G12: / | H12: 1 | J12: =IF(F12*H12>0,DATE(Anno,H12,F12),"") -> 44202 | L12: =IF(F12*H12>0,DATE((Anno+1),H12,F12),"") -> 44567
B13: Festa della Liberazione | F13: 25 | G13: / | H13: 4 | J13: =IF(F13*H13>0,DATE(Anno,H13,F13),"") -> 44311
B14: 1° Maggio | F14: 1 | G14: / | H14: 5 | J14: 201
B15: Festa della Repubblica | F15: 2 | G15: / | H15: 6 | J15: =IF(F15*H15>0,DATE(Anno,H15,F15),"") -> 44349
B16: Ferragosto | F16: 15 | G16: / | H16: 8 | J16: =IF(F16*H16>0,DATE(Anno,H16,F16),"") -> 44423
B17: Tutti i Santi | F17: 1 | G17: / | H17: 11 | J17: =IF(F17*H17>0,DATE(Anno,H17,F17),"") -> 44501
B18: Immacolata | F18: 8 | G18: / | H18: 12 | J18: =IF(F18*H18>0,DATE(Anno,H18,F18),"") -> 44538
B19: Natale | F19: 25 | G19: / | H19: 12 | J19: =IF(F19*H19>0,DATE(Anno,H19,F19),"") -> 44555
B20: Santo Stefano | F20: 26 | G20: / | H20: 12 | J20: =IF(F20*H20>0,DATE(Anno,H20,F20),"") -> 44556
B21: Patrono | F21: 17 | G21: / | H21: 6 | J21: =IF(F21*H21>0,DATE(Anno,H21,F21),"") -> 44364
G22: / | J22: =IF(F22*H22>0,DATE(Anno,H22,F22),"")
G23: / | J23: =IF(F23*H23>0,DATE(Anno,H23,F23),"")
G24: / | J24: =IF(F24*H24>0,DATE(Anno,H24,F24),"")
G25: / | J25: =IF(F25*H25>0,DATE(Anno,H25,F25),"")
B26: Lunedì di Pasqua | F26: =DAY(J26) -> 5 | G26: / | H26: =MONTH(J26) -> 4 | J26: =Pasqua + 1 -> 44291

Sheet Riepilogo tsh
A1: RIEPILOGO:
A2: Da riempire i campi in giallo - gli altri campi si autocompilano
A4: Full name of beneficiary | B4: Università degli studi di Napoli Federico II-Dipartimento di Giurisprudenza | M4: Torna alla pagina delle istruzioni
A5: Full name of employee
A6: Full name of Supervisor
A7: Year | B7: ='Impostazioni calendario'!F6 -> 2021
A8: Ruolo/Qualifica
A9: Annual Cost
A10: Full Time/Part Time: months
A11: Worked Hours | B11: =B10*1720/12 -> 0
A12: Institutional Activity | B12: Institutional research | M12: WP Number
A13: Project Title and Number 1 | L13: WP1 | M13: WP2 | N13: WP3 | O13: WP 4 | P13: WP 5
A15: Timesheet summary
A16: Full name of beneficiary | B16: =B4 -> Università degli studi di Napoli Federico II-Dipartimento di Giurisprudenza
A17: Full name of employee | B17: =B5 -> 0
A18: Full name of Head of Dept. | B18: =B6 -> 0
A19: Year | B19: ='Impostazioni calendario'!F6 -> 2021 | D19: ='Impostazioni calendario'!H24 -> 0
A20: Total worked hours | B20: =Z33 -> 0
A22: Worked hours | B22: January | D22: February | F22: March | H22: April | J22: May | L22: June | N22: July | P22: August | R22: September | T22: October | V22: November | X22: December | Z22: TOTAL
A23: =B12 -> Institutional research | B23: =January!AU12 -> 0 | D23: =February!AU12 -> 0 | F23: =March!AU12 -> 0 | H23: =April!AU12 -> 0 | J23: =May!AU12 -> 0 | L23: =June!AU12 -> 0 | N23: =July!AU12 -> 0 | P23: =August!AU12 -> 0 | R23: =September!AU12 -> 0 | T23: =October!AU12 -> 0 | V23: =November!AU12 -> 0 | X23: =December!AU12 -> 0 | Z23: =SUM(B23:Y23) -> 0 | AA23: =Z23*#REF! -> #REF!
A24: SCAN | B24: =January!AU13 -> 0 | D24: =February!AU13 -> 0 | F24: =March!AU13 -> 0 | H24: =April!AU13 -> 0 | J24: =May!AU13 -> 0 | L24: =June!AU13 -> 0 | N24: =July!AU13 -> 0 | P24: =August!AU13 -> 0 | R24: =September!AU13 -> 0 | T24: =October!AU13 -> 0 | V24: =November!AU13 -> 0 | X24: =December!AU13 -> 0 | Z24: =SUM(B24:Y24) -> 0 | AA24: =Z24*#REF! -> #REF!
A25: =L13 -> WP1 | B25: =January!AU14 -> 0 | D25: =February!AU14 -> 0 | F25: =March!AU14 -> 0 | H25: =April!AU14 -> 0 | J25: =May!AU14 -> 0 | L25: =June!AU14 -> 0 | N25: =July!AU14 -> 0 | P25: =August!AU14 -> 0 | R25: =September!AU14 -> 0 | T25: =October!AU14 -> 0 | V25: =November!AU14 -> 0 | X25: =December!AU14 -> 0 | Z25: =SUM(B25:Y25) -> 0 | AA25: =Z25*#REF! -> #REF!
A26: =M13 -> WP2 | B26: =January!AU15 -> 0 | D26: =February!AU15 -> 0 | F26: =March!AU15 -> 0 | H26: =April!AU15 -> 0 | J26: =May!AU15 -> 0 | L26: =June!AU15 -> 0 | N26: =July!AU15 -> 0 | P26: =August!AU15 -> 0 | R26: =September!AU15 -> 0 | T26: =October!AU15 -> 0 | V26: =November!AU15 -> 0 | X26: =December!AU15 -> 0 | Z26: =SUM(B26:Y26) -> 0 | AA26: =Z26*#REF! -> #REF!
A27: =N13 -> WP3 | B27: =January!AU16 -> 0 | D27: =February!AW16 -> 0 | F27: =March!AU16 -> 0 | H27: =April!AU16 -> 0 | J27: =May!AU16 -> 0 | L27: =June!AU16 -> 0 | N27: =July!AU16 -> 0 | P27: =August!AU16 -> 0 | R27: =September!AU16 -> 0 | T27: =October!AU16 -> 0 | V27: =November!AU16 -> 0 | X27: =December!AU16 -> 0 | Z27: =SUM(B27:Y27) -> 0 | AA27: =Z27*#REF! -> #REF!
A28: =O13 -> WP 4 | B28: =January!AU17 -> 0 | D28: =February!AU17 -> 0 | F28: =March!AU17 -> 0 | H28: =April!AU17 -> 0 | J28: =May!AU17 -> 0 | L28: =June!AU17 -> 0 | N28: =July!AU17 -> 0 | P28: =August!AU17 -> 0 | R28: =September!AU17 -> 0 | T28: =October!AU17 -> 0 | V28: =November!AU17 -> 0 | X28: =December!AU17 -> 0 | Z28: =SUM(B28:Y28) -> 0 | AA28: =Z28*#REF! -> #REF!
A29: WP 5 | B29: =January!AU18 -> 0 | D29: =February!AU18 -> 0
A30: Teaching activities | B30: =January!AU19 -> 0 | D30: =February!AU19 -> 0 | F30: =March!AU19 -> 0 | H30: =April!AU19 -> 0 | J30: =May!AU19 -> 0 | L30: =June!AU19 -> 0 | N30: =July!AU19 -> 0 | P30: =August!AU19 -> 0 | R30: =September!AU19 -> 0 | T30: =October!AU19 -> 0 | V30: =November!AU19 -> 0 | X30: =December!AU19 -> 0 | Z30: =SUM(B30:Y30) -> 0 | AA30: =Z30*#REF! -> #REF!
A31: Institutional activities | B31: =January!AU20 -> 0 | D31: =February!AU20 -> 0 | F31: =March!AU20 -> 0 | H31: =April!AU20 -> 0 | J31: =May!AU20 -> 0 | L31: =June!AU20 -> 0 | N31: =July!AU20 -> 0 | P31: =August!AU20 -> 0 | R31: =September!AU20 -> 0 | T31: =October!AU20 -> 0 | V31: =November!AU20 -> 0 | X31: =December!AU20 -> 0 | Z31: =SUM(B31:Y31) -> 0 | AA31: =Z31*#REF! -> #REF!
A32: Other activities | B32: =January!AU21 -> 0 | D32: =February!AU21 -> 0 | F32: =March!AU21 -> 0 | H32: =April!AU21 -> 0 | J32: =May!AU21 -> 0 | L32: =June!AU21 -> 0 | N32: =July!AU21 -> 0 | P32: =August!AU21 -> 0 | R32: =September!AU21 -> 0 | T32: =October!AU21 -> 0 | V32: =November!AU21 -> 0 | X32: =December!AU21 -> 0 | Z32: =SUM(B32:Y32) -> 0 | AA32: =Z32*#REF! -> #REF!
A33: Total hours | B33: =January!AU22 -> 0 | D33: =February!AU22 -> 0 | F33: =March!AU22 -> 0 | H33: =April!AU22 -> 0 | J33: =May!AU22 -> 0 | L33: =June!AU22 -> 0 | N33: =July!AU22 -> 0 | P33: =August!AU22 -> 0 | R33: =September!AU22 -> 0 | T33: =October!AU22 -> 0 | V33: =November!AU22 -> 0 | X33: =December!AU22 -> 0 | Z33: =SUM(B33:Y33) -> 0 | AA33: =Z33*#REF! -> #REF!
A35: Projects allocation to Programmes
A39: Project costs
A40: Programme | B40: Annual productive hours | D40: Full/part-time | F40: Total cost* | H40: Hourly rate
A41: Horizon | B41: 1720 | D41: =B10 -> 0 | F41: =B9 -> 0 | H41: =B9/B11 -> #DIV/0!
A43: * Inserire il costo dello stipendio dell'employee come certificato dall'Unità retribuzione stipendi. Il costo stipendiale può variare a seconda del tipo di progetto da rendicontare

Sheet January
B1: Full name of beneficiary | G1: ='Riepilogo tsh'!B4 -> Università degli studi di Napoli Federico II-Dipartimento di Giurisprudenza | AF1: 1 | AG1: January
AF2: =DATE(Anno,AF1,1) -> 44197 | AG2: Mo | AH2: Tu | AI2: We | AJ2: Th | AK2: Fr | AL2: Sa | AM2: Su | AV2: Go to summary
B3: Full name of employee | G3: ='Riepilogo tsh'!B5 -> 0 | AG3: =(AF2-WEEKDAY(AF2,3)) -> 44193 | AH3: =AG3+1 -> 44194 | AI3: =AH3+1 -> 44195 | AJ3: =AI3+1 -> 44196 | AK3: =AJ3+1 -> 44197 | AL3: =AK3+1 -> 44198 | AM3: =AL3+1 -> 44199
AG4: =AM3+1 -> 44200 | AH4: =AG4+1 -> 44201 | AI4: =AH4+1 -> 44202 | AJ4: =AI4+1 -> 44203 | AK4: =AJ4+1 -> 44204 | AL4: =AK4+1 -> 44205 | AM4: =AL4+1 -> 44206
B5: Full name of Head of Dept. | G5: ='Riepilogo tsh'!B6 -> 0 | AG5: =AM4+1 -> 44207 | AH5: =AG5+1 -> 44208 | AI5: =AH5+1 -> 44209 | AJ5: =AI5+1 -> 44210 | AK5: =AJ5+1 -> 44211 | AL5: =AK5+1 -> 44212 | AM5: =AL5+1 -> 44213
AG6: =AM5+1 -> 44214 | AH6: =AG6+1 -> 44215 | AI6: =AH6+1 -> 44216 | AJ6: =AI6+1 -> 44217 | AK6: =AJ6+1 -> 44218 | AL6: =AK6+1 -> 44219 | AM6: =AL6+1 -> 44220
B7: Year | C7: ='Impostazioni calendario'!F6 -> 2021 | AG7: =AM6+1 -> 44221 | AH7: =AG7+1 -> 44222 | AI7: =AH7+1 -> 44223 | AJ7: =AI7+1 -> 44224 | AK7: =AJ7+1 -> 44225 | AL7: =AK7+1 -> 44226 | AM7: =AL7+1 -> 44227
AG8: =AM7+1 -> 44228 | AH8: =AG8+1 -> 44229 | AI8: =AH8+1 -> 44230 | AJ8: =AI8+1 -> 44231 | AK8: =AJ8+1 -> 44232 | AL8: =AK8+1 -> 44233 | AM8: =AL8+1 -> 44234
B10: January | E10: Mo | F10: Tu | G10: We | H10: Th | I10: Fr | J10: Sa | K10: Su | L10: Mo | M10: Tu | N10: We | O10: Th | P10: Fr | Q10: Sa | R10: Su | S10: Mo | T10: Tu | U10: We | V10: Th | W10: Fr | X10: Sa | Y10: Su | Z10: Mo | AA10: Tu | AB10: We | AC10: Th | AD10: Fr | AE10: Sa | AF10: Su | AG10: Mo | AH10: Tu | AI10: We | AJ10: Th | AK10: Fr | AL10: Sa | AM10: Su | AN10: Mo | AO10: Tu | AP10: We | AQ10: Th | AR10: Fr | AS10: Sa | AT10: Su | AU10: Total
E11: =AG3 -> 44193 | F11: =AH3 -> 44194 | G11: =AI3 -> 44195 | H11: =AJ3 -> 44196 | I11: =AK3 -> 44197 | J11: =AL3 -> 44198 | K11: =AM3 -> 44199 | L11: =AG4 -> 44200 | M11: =AH4 -> 44201 | N11: =AI4 -> 44202 | O11: =AJ4 -> 44203 | P11: =AK4 -> 44204 | Q11: =AL4 -> 44205 | R11: =AM4 -> 44206 | S11: =AG5 -> 44207 | T11: =AH5 -> 44208 | U11: =AI5 -> 44209 | V11: =AJ5 -> 44210 | W11: =AK5 -> 44211 | X11: =AL5 -> 44212 | Y11: =AM5 -> 44213 | Z11: =AG6 -> 44214 | AA11: =AH6 -> 44215 | AB11: =AI6 -> 44216 | AC11: =AJ6 -> 44217 | AD11: =AK6 -> 44218 | AE11: =AL6 -> 44219 | AF11: =AM6 -> 44220 | AG11: =AG7 -> 44221 | AH11: =AH7 -> 44222 | AI11: =AI7 -> 44223 | AJ11: =AJ7 -> 44224 | AK11: =AK7 -> 44225 | AL11: =AL7 -> 44226 | AM11: =AG8 -> 44228 | AN11: =AH8 -> 44229 | AO11: =AI8 -> 44230 | AP11: =AJ8 -> 44231 | AQ11: =AK8 -> 44232 | AR11: =AL8 -> 44233 | AT11: =AM8 -> 44234
B12: ='Riepilogo tsh'!B12 -> Institutional research | AU12: =SUM(E12:AT12) -> 0
B13: ='Riepilogo tsh'!B13 -> 0 | E13: =SUM(E14:E18) -> 0 | F13: =SUM(F14:F18) -> 0 | G13: =SUM(G14:G18) -> 0 | H13: =SUM(H14:H18) -> 0 | I13: =SUM(I14:I18) -> 0 | J13: =SUM(J14:J18) -> 0 | K13: =SUM(K14:K18) -> 0 | L13: =SUM(L14:L18) -> 0 | ... AT13: =SUM(AT14:AT18) -> 0 | AU13: =SUM(E13:AT13) -> 0
B14: ='Riepilogo tsh'!L13 -> WP1 | AU14: =SUM(E14:AT14) -> 0
B15: ='Riepilogo tsh'!M13 -> WP2 | AU15: =SUM(E15:AT15) -> 0
B16: ='Riepilogo tsh'!N13 -> WP3 | AU16: =SUM(E16:AT16) -> 0
B17: ='Riepilogo tsh'!O13 -> WP 4 | AU17: =SUM(E17:AT17) -> 0
C18: WP5
B19: Teaching activities | AU19: =SUM(E19:AT19) -> 0
B20: Institutional activities | AU20: =SUM(E20:AT20) -> 0
B21: Other activities | AU21: =SUM(E21:AT21) -> 0
B22: Total hours | E22: =E12+E13+E19+E20+E21 -> 0 | F22: =F12+F13+F19+F20+F21 -> 0 | G22: =G12+G13+G19+G20+G21 -> 0 | H22: =H12+H13+H19+H20+H21 -> 0 | I22: =I12+I13+I19+I20+I21 -> 0 | J22: =J12+J13+J19+J20+J21 -> 0 | K22: =K12+K13+K19+K20+K21 -> 0 | L22: =L12+L13+L19+L20+L21 -> 0 | ... AT22: =AT12+AT13+AT19+AT20+AT21 -> 0 | AU22: =SUM(E22:AT22) -> 0
B24: Short description of the activities carried out in the month: | D24: ='Riepilogo tsh'!B13 -> 0
C30: Signed | AD30: Signed
C31: ='Riepilogo tsh'!B5 -> 0 | AD31: =G5 -> 0
C33: Date: | AC33: Date:

Sheet February
B1: Full name of beneficiary | G1: ='Riepilogo tsh'!B4 -> Università degli studi di Napoli Federico II-Dipartimento di Giurisprudenza | AF1: 2 | AG1: February
AF2: =DATE(Anno,AF1,1) -> 44228 | AG2: Mo | AH2: Tu | AI2: We | AJ2: Th | AK2: Fr | AL2: Sa | AM2: Su | AV2: Go to summary
B3: Full name of employee | G3: ='Riepilogo tsh'!B5 -> 0 | AG3: =(AF2-WEEKDAY(AF2,3)) -> 44228 | AH3: =AG3+1 -> 44229 | AI3: =AH3+1 -> 44230 | AJ3: =AI3+1 -> 44231 | AK3: =AJ3+1 -> 44232 | AL3: =AK3+1 -> 44233 | AM3: =AL3+1 -> 44234
AG4: =AM3+1 -> 44235 | AH4: =AG4+1 -> 44236 | AI4: =AH4+1 -> 44237 | AJ4: =AI4+1 -> 44238 | AK4: =AJ4+1 -> 44239 | AL4: =AK4+1 -> 44240 | AM4: =AL4+1 -> 44241
B5: Full name of Head of Dept. | G5: ='Riepilogo tsh'!B6 -> 0 | AG5: =AM4+1 -> 44242 | AH5: =AG5+1 -> 44243 | AI5: =AH5+1 -> 44244 | AJ5: =AI5+1 -> 44245 | AK5: =AJ5+1 -> 44246 | AL5: =AK5+1 -> 44247 | AM5: =AL5+1 -> 44248
AG6: =AM5+1 -> 44249 | AH6: =AG6+1 -> 44250 | AI6: =AH6+1 -> 44251 | AJ6: =AI6+1 -> 44252 | AK6: =AJ6+1 -> 44253 | AL6: =AK6+1 -> 44254 | AM6: =AL6+1 -> 44255
B7: Year | C7: ='Impostazioni calendario'!F6 -> 2021 | AG7: =AM6+1 -> 44256 | AH7: =AG7+1 -> 44257 | AI7: =AH7+1 -> 44258 | AJ7: =AI7+1 -> 44259 | AK7: =AJ7+1 -> 44260 | AL7: =AK7+1 -> 44261 | AM7: =AL7+1 -> 44262
AG8: =AM7+1 -> 44263 | AH8: =AG8+1 -> 44264 | AI8: =AH8+1 -> 44265 | AJ8: =AI8+1 -> 44266 | AK8: =AJ8+1 -> 44267 | AL8: =AK8+1 -> 44268 | AM8: =AL8+1 -> 44269
B10: =AG1 -> February | E10: Mo | F10: Tu | G10: We | H10: Th | I10: Fr | J10: Sa | K10: Su | L10: Mo | M10: Tu | N10: We | O10: Th | P10: Fr | Q10: Sa | R10: Su | S10: Mo | T10: Tu | U10: We | V10: Th | W10: Fr | X10: Sa | Y10: Su | Z10: Mo | AA10: Tu | AB10: We | AC10: Th | AD10: Fr | AE10: Sa | AF10: Su | AG10: Mo | AH10: Tu | AI10: We | AJ10: Th | AK10: Fr | AL10: Sa | AM10: Su | AN10: Mo | AO10: Tu | AP10: We | AQ10: Th | AR10: Fr | AS10: Sa | AT10: Su | AU10: Total
E11: =AG3 -> 44228 | F11: =AH3 -> 44229 | G11: =AI3 -> 44230 | H11: =AJ3 -> 44231 | I11: =AK3 -> 44232 | J11: =AL3 -> 44233 | K11: =AM3 -> 44234 | L11: =AG4 -> 44235 | M11: =AH4 -> 44236 | N11: =AI4 -> 44237 | O11: =AJ4 -> 44238 | P11: =AK4 -> 44239 | Q11: =AL4 -> 44240 | R11: =AM4 -> 44241 | S11: =AG5 -> 44242 | T11: =AH5 -> 44243 | U11: =AI5 -> 44244 | V11: =AJ5 -> 44245 | W11: =AK5 -> 44246 | X11: =AL5 -> 44247 | Y11: =AM5 -> 44248 | Z11: =AG6 -> 44249 | AA11: =AH6 -> 44250 | AB11: =AI6 -> 44251 | AC11: =AJ6 -> 44252 | AD11: =AK6 -> 44253 | AE11: =AL6 -> 44254 | AF11: =AM6 -> 44255 | AG11: =AG7 -> 44256 | AH11: =AH7 -> 44257 | AI11: =AI7 -> 44258 | AJ11: =AJ7 -> 44259 | AK11: =AK7 -> 44260 | AL11: =AL7 -> 44261 | AM11: =AG8 -> 44263 | AN11: =AH8 -> 44264 | AO11: =AI8 -> 44265 | AP11: =AJ8 -> 44266 | AQ11: =AK8 -> 44267 | AR11: =AL8 -> 44268 | AT11: =AM8 -> 44269
B12: ='Riepilogo tsh'!B12 -> Institutional research | AU12: =SUM(E12:AT12) -> 0
B13: ='Riepilogo tsh'!B13 -> 0 | E13: =SUM(E14:E18) -> 0 | F13: =SUM(F14:F18) -> 0 | G13: =SUM(G14:G18) -> 0 | H13: =SUM(H14:H18) -> 0 | I13: =SUM(I14:I18) -> 0 | J13: =SUM(J14:J18) -> 0 | K13: =SUM(K14:K18) -> 0 | L13: =SUM(L14:L18) -> 0 | ... AT13: =SUM(AT14:AT18) -> 0 | AU13: =SUM(E13:AT13) -> 0
B14: ='Riepilogo tsh'!L13 -> WP1 | AU14: =SUM(E14:AT14) -> 0
B15: ='Riepilogo tsh'!M13 -> WP2 | AU15: =SUM(E15:AT15) -> 0
B16: ='Riepilogo tsh'!N13 -> WP3 | AU16: =SUM(E16:AT16) -> 0
B17: ='Riepilogo tsh'!O13 -> WP 4 | AU17: =SUM(E17:AT17) -> 0
B18: WP 5
B19: Teaching activities | AU19: =SUM(E19:AT19) -> 0
B20: Institutional activities | AU20: =SUM(E20:AT20) -> 0
B21: Other activities | AU21: =SUM(E21:AT21) -> 0
B22: Total hours | E22: =E12+E13+E19+E20+E21 -> 0 | F22: =F12+F13+F19+F20+F21 -> 0 | G22: =G12+G13+G19+G20+G21 -> 0 | H22: =H12+H13+H19+H20+H21 -> 0 | I22: =I12+I13+I19+I20+I21 -> 0 | J22: =J12+J13+J19+J20+J21 -> 0 | K22: =K12+K13+K19+K20+K21 -> 0 | L22: =L12+L13+L19+L20+L21 -> 0 | ... AT22: =AT12+AT13+AT19+AT20+AT21 -> 0 | AU22: =SUM(E22:AT22) -> 0
B24: Short description of the activities carried out in the month: | D24: ='Riepilogo tsh'!B13 -> 0
C30: Signed | AD30: Signed
C31: ='Riepilogo tsh'!B5 -> 0 | AD31: =G5 -> 0
C33: Date: | AC33: Date:

Sheet March
B1: Full name of beneficiary | G1: ='Riepilogo tsh'!B4 -> Università degli studi di Napoli Federico II-Dipartimento di Giurisprudenza | AF1: 3 | AG1: March
AF2: =DATE(Anno,AF1,1) -> 44256 | AG2: Mo | AH2: Tu | AI2: We | AJ2: Th | AK2: Fr | AL2: Sa | AM2: Su | AV2: Go to summary
B3: Full name of employee | G3: ='Riepilogo tsh'!B5 -> 0 | AG3: =(AF2-WEEKDAY(AF2,3)) -> 44256 | AH3: =AG3+1 -> 44257 | AI3: =AH3+1 -> 44258 | AJ3: =AI3+1 -> 44259 | AK3: =AJ3+1 -> 44260 | AL3: =AK3+1 -> 44261 | AM3: =AL3+1 -> 44262
AG4: =AM3+1 -> 44263 | AH4: =AG4+1 -> 44264 | AI4: =AH4+1 -> 44265 | AJ4: =AI4+1 -> 44266 | AK4: =AJ4+1 -> 44267 | AL4: =AK4+1 -> 44268 | AM4: =AL4+1 -> 44269
B5: Full name of Head of Dept. | G5: ='Riepilogo tsh'!B6 -> 0 | AG5: =AM4+1 -> 44270 | AH5: =AG5+1 -> 44271 | AI5: =AH5+1 -> 44272 | AJ5: =AI5+1 -> 44273 | AK5: =AJ5+1 -> 44274 | AL5: =AK5+1 -> 44275 | AM5: =AL5+1 -> 44276
AG6: =AM5+1 -> 44277 | AH6: =AG6+1 -> 44278 | AI6: =AH6+1 -> 44279 | AJ6: =AI6+1 -> 44280 | AK6: =AJ6+1 -> 44281 | AL6: =AK6+1 -> 44282 | AM6: =AL6+1 -> 44283
B7: Year | C7: ='Impostazioni calendario'!F6 -> 2021 | AG7: =AM6+1 -> 44284 | AH7: =AG7+1 -> 44285 | AI7: =AH7+1 -> 44286 | AJ7: =AI7+1 -> 44287 | AK7: =AJ7+1 -> 44288 | AL7: =AK7+1 -> 44289 | AM7: =AL7+1 -> 44290
AG8: =AM7+1 -> 44291 | AH8: =AG8+1 -> 44292 | AI8: =AH8+1 -> 44293 | AJ8: =AI8+1 -> 44294 | AK8: =AJ8+1 -> 44295 | AL8: =AK8+1 -> 44296 | AM8: =AL8+1 -> 44297
B10: =AG1 -> March | E10: Mo | F10: Tu | G10: We | H10: Th | I10: Fr | J10: Sa | K10: Su | L10: Mo | M10: Tu | N10: We | O10: Th | P10: Fr | Q10: Sa | R10: Su | S10: Mo | T10: Tu | U10: We | V10: Th | W10: Fr | X10: Sa | Y10: Su | Z10: Mo | AA10: Tu | AB10: We | AC10: Th | AD10: Fr | AE10: Sa | AF10: Su | AG10: Mo | AH10: Tu | AI10: We | AJ10: Th | AK10: Fr | AL10: Sa | AM10: Su | AN10: Mo | AO10: Tu | AP10: We | AQ10: Th | AR10: Fr | AS10: Sa | AT10: Su | AU10: Total
E11: =AG3 -> 44256 | F11: =AH3 -> 44257 | G11: =AI3 -> 44258 | H11: =AJ3 -> 44259 | I11: =AK3 -> 44260 | J11: =AL3 -> 44261 | K11: =AM3 -> 44262 | L11: =AG4 -> 44263 | M11: =AH4 -> 44264 | N11: =AI4 -> 44265 | O11: =AJ4 -> 44266 | P11: =AK4 -> 44267 | Q11: =AL4 -> 44268 | R11: =AM4 -> 44269 | S11: =AG5 -> 44270 | T11: =AH5 -> 44271 | U11: =AI5 -> 44272 | V11: =AJ5 -> 44273 | W11: =AK5 -> 44274 | X11: =AL5 -> 44275 | Y11: =AM5 -> 44276 | Z11: =AG6 -> 44277 | AA11: =AH6 -> 44278 | AB11: =AI6 -> 44279 | AC11: =AJ6 -> 44280 | AD11: =AK6 -> 44281 | AE11: =AL6 -> 44282 | AF11: =AM6 -> 44283 | AG11: =AG7 -> 44284 | AH11: =AH7 -> 44285 | AI11: =AI7 -> 44286 | AJ11: =AJ7 -> 44287 | AK11: =AK7 -> 44288 | AL11: =AL7 -> 44289 | AM11: =AG8 -> 44291 | AN11: =AH8 -> 44292 | AO11: =AI8 -> 44293 | AP11: =AJ8 -> 44294 | AQ11: =AK8 -> 44295 | AR11: =AL8 -> 44296 | AT11: =AM8 -> 44297
B12: ='Riepilogo tsh'!B12 -> Institutional research | AU12: =SUM(E12:AT12) -> 0
B13: ='Riepilogo tsh'!B13 -> 0 | E13: =SUM(E14:E18) -> 0 | F13: =SUM(F14:F18) -> 0 | G13: =SUM(G14:G18) -> 0 | H13: =SUM(H14:H18) -> 0 | I13: =SUM(I14:I18) -> 0 | J13: =SUM(J14:J18) -> 0 | K13: =SUM(K14:K18) -> 0 | L13: =SUM(L14:L18) -> 0 | ... AT13: =SUM(AT14:AT18) -> 0 | AU13: =SUM(E13:AT13) -> 0
B14: ='Riepilogo tsh'!L13 -> WP1 | AU14: =SUM(E14:AT14) -> 0
B15: ='Riepilogo tsh'!M13 -> WP2 | AU15: =SUM(E15:AT15) -> 0
B16: ='Riepilogo tsh'!N13 -> WP3 | AU16: =SUM(E16:AT16) -> 0
B17: ='Riepilogo tsh'!O13 -> WP 4 | AU17: =SUM(E17:AT17) -> 0
B18: WP 5
B19: Teaching activities | AU19: =SUM(E19:AT19) -> 0
B20: Institutional activities | AU20: =SUM(E20:AT20) -> 0
B21: Other activities | AU21: =SUM(E21:AT21) -> 0
B22: Total hours | E22: =E12+E13++E19+E20+E21 -> 0 | F22: =F12+F13++F19+F20+F21 -> 0 | G22: =G12+G13++G19+G20+G21 -> 0 | H22: =H12+H13++H19+H20+H21 -> 0 | I22: =I12+I13++I19+I20+I21 -> 0 | J22: =J12+J13++J19+J20+J21 -> 0 | K22: =K12+K13++K19+K20+K21 -> 0 | L22: =L12+L13++L19+L20+L21 -> 0 | ... AT22: =AT12+AT13++AT19+AT20+AT21 -> 0 | AU22: =SUM(E22:AT22) -> 0
B24: Short description of the activities carried out in the month: | D24: ='Riepilogo tsh'!B13 -> 0
C30: Signed | AD30: Signed
C31: ='Riepilogo tsh'!B5 -> 0 | AD31: =G5 -> 0
C33: Date: | AC33: Date:

Sheet April
B1: Full name of beneficiary | G1: ='Riepilogo tsh'!B4 -> Università degli studi di Napoli Federico II-Dipartimento di Giurisprudenza | AF1: 4 | AG1: April
AF2: =DATE(Anno,AF1,1) -> 44287 | AG2: Mo | AH2: Tu | AI2: We | AJ2: Th | AK2: Fr | AL2: Sa | AM2: Su | AV2: Go to summary
B3: Full name of employee | G3: ='Riepilogo tsh'!B5 -> 0 | AG3: =(AF2-WEEKDAY(AF2,3)) -> 44284 | AH3: =AG3+1 -> 44285 | AI3: =AH3+1 -> 44286 | AJ3: =AI3+1 -> 44287 | AK3: =AJ3+1 -> 44288 | AL3: =AK3+1 -> 44289 | AM3: =AL3+1 -> 44290
AG4: =AM3+1 -> 44291 | AH4: =AG4+1 -> 44292 | AI4: =AH4+1 -> 44293 | AJ4: =AI4+1 -> 44294 | AK4: =AJ4+1 -> 44295 | AL4: =AK4+1 -> 44296 | AM4: =AL4+1 -> 44297
B5: Full name of Head of Dept. | G5: ='Riepilogo tsh'!B6 -> 0 | AG5: =AM4+1 -> 44298 | AH5: =AG5+1 -> 44299 | AI5: =AH5+1 -> 44300 | AJ5: =AI5+1 -> 44301 | AK5: =AJ5+1 -> 44302 | AL5: =AK5+1 -> 44303 | AM5: =AL5+1 -> 44304
AG6: =AM5+1 -> 44305 | AH6: =AG6+1 -> 44306 | AI6: =AH6+1 -> 44307 | AJ6: =AI6+1 -> 44308 | AK6: =AJ6+1 -> 44309 | AL6: =AK6+1 -> 44310 | AM6: =AL6+1 -> 44311
B7: Year | C7: ='Impostazioni calendario'!F6 -> 2021 | AG7: =AM6+1 -> 44312 | AH7: =AG7+1 -> 44313 | AI7: =AH7+1 -> 44314 | AJ7: =AI7+1 -> 44315 | AK7: =AJ7+1 -> 44316 | AL7: =AK7+1 -> 44317 | AM7: =AL7+1 -> 44318
AG8: =AM7+1 -> 44319 | AH8: =AG8+1 -> 44320 | AI8: =AH8+1 -> 44321 | AJ8: =AI8+1 -> 44322 | AK8: =AJ8+1 -> 44323 | AL8: =AK8+1 -> 44324 | AM8: =AL8+1 -> 44325
B10: =AG1 -> April | E10: Mo | F10: Tu | G10: We | H10: Th | I10: Fr | J10: Sa | K10: Su | L10: Mo | M10: Tu | N10: We | O10: Th | P10: Fr | Q10: Sa | R10: Su | S10: Mo | T10: Tu | U10: We | V10: Th | W10: Fr | X10: Sa | Y10: Su | Z10: Mo | AA10: Tu | AB10: We | AC10: Th | AD10: Fr | AE10: Sa | AF10: Su | AG10: Mo | AH10: Tu | AI10: We | AJ10: Th | AK10: Fr | AL10: Sa | AM10: Su | AN10: Mo | AO10: Tu | AP10: We | AQ10: Th | AR10: Fr | AS10: Sa | AT10: Su | AU10: Total
E11: =AG3 -> 44284 | F11: =AH3 -> 44285 | G11: =AI3 -> 44286 | H11: =AJ3 -> 44287 | I11: =AK3 -> 44288 | J11: =AL3 -> 44289 | K11: =AM3 -> 44290 | L11: =AG4 -> 44291 | M11: =AH4 -> 44292 | N11: =AI4 -> 44293 | O11: =AJ4 -> 44294 | P11: =AK4 -> 44295 | Q11: =AL4 -> 44296 | R11: =AM4 -> 44297 | S11: =AG5 -> 44298 | T11: =AH5 -> 44299 | U11: =AI5 -> 44300 | V11: =AJ5 -> 44301 | W11: =AK5 -> 44302 | X11: =AL5 -> 44303 | Y11: =AM5 -> 44304 | Z11: =AG6 -> 44305 | AA11: =AH6 -> 44306 | AB11: =AI6 -> 44307 | AC11: =AJ6 -> 44308 | AD11: =AK6 -> 44309 | AE11: =AL6 -> 44310 | AF11: =AM6 -> 44311 | AG11: =AG7 -> 44312 | AH11: =AH7 -> 44313 | AI11: =AI7 -> 44314 | AJ11: =AJ7 -> 44315 | AK11: =AK7 -> 44316 | AL11: =AL7 -> 44317 | AM11: =AG8 -> 44319 | AN11: =AH8 -> 44320 | AO11: =AI8 -> 44321 | AP11: =AJ8 -> 44322 | AQ11: =AK8 -> 44323 | AR11: =AL8 -> 44324 | AT11: =AM8 -> 44325
B12: ='Riepilogo tsh'!B12 -> Institutional research | AU12: =SUM(E12:AT12) -> 0
B13: ='Riepilogo tsh'!B13 -> 0 | E13: =SUM(E14:E18) -> 0 | F13: =SUM(F14:F18) -> 0 | G13: =SUM(G14:G18) -> 0 | H13: =SUM(H14:H18) -> 0 | I13: =SUM(I14:I18) -> 0 | J13: =SUM(J14:J18) -> 0 | K13: =SUM(K14:K18) -> 0 | L13: =SUM(L14:L18) -> 0 | ... AT13: =SUM(AT14:AT18) -> 0 | AU13: =SUM(E13:AT13) -> 0
B14: ='Riepilogo tsh'!L13 -> WP1 | AU14: =SUM(E14:AT14) -> 0
B15: ='Riepilogo tsh'!M13 -> WP2 | AU15: =SUM(E15:AT15) -> 0
B16: ='Riepilogo tsh'!N13 -> WP3 | AU16: =SUM(E16:AT16) -> 0
B17: ='Riepilogo tsh'!O13 -> WP 4 | AU17: =SUM(E17:AT17) -> 0
B18: WP 5
B19: Teaching activities | AU19: =SUM(E19:AT19) -> 0
B20: Institutional activities | AU20: =SUM(E20:AT20) -> 0
B21: Other activities | AU21: =SUM(E21:AT21) -> 0
B22: Total hours | E22: =E12+E13++E19+E20+E21 -> 0 | F22: =F12+F13++F19+F20+F21 -> 0 | G22: =G12+G13++G19+G20+G21 -> 0 | H22: =H12+H13++H19+H20+H21 -> 0 | I22: =I12+I13++I19+I20+I21 -> 0 | J22: =J12+J13++J19+J20+J21 -> 0 | K22: =K12+K13++K19+K20+K21 -> 0 | L22: =L12+L13++L19+L20+L21 -> 0 | ... AT22: =AT12+AT13++AT19+AT20+AT21 -> 0 | AU22: =SUM(E22:AT22) -> 0
B24: Short description of the activities carried out in the month: | D24: ='Riepilogo tsh'!B13 -> 0
C30: Signed | AD30: Signed
C31: ='Riepilogo tsh'!B5 -> 0 | AD31: =G5 -> 0
C33: Date: | AC33: Date:

Sheet May
B1: Full name of beneficiary | G1: ='Riepilogo tsh'!B4 -> Università degli studi di Napoli Federico II-Dipartimento di Giurisprudenza | AF1: 5 | AG1: May
AF2: =DATE(Anno,AF1,1) -> 44317 | AG2: Mo | AH2: Tu | AI2: We | AJ2: Th | AK2: Fr | AL2: Sa | AM2: Su | AV2: Go to summary
B3: Full name of employee | G3: ='Riepilogo tsh'!B5 -> 0 | AG3: =(AF2-WEEKDAY(AF2,3)) -> 44312 | AH3: =AG3+1 -> 44313 | AI3: =AH3+1 -> 44314 | AJ3: =AI3+1 -> 44315 | AK3: =AJ3+1 -> 44316 | AL3: =AK3+1 -> 44317 | AM3: =AL3+1 -> 44318
AG4: =AM3+1 -> 44319 | AH4: =AG4+1 -> 44320 | AI4: =AH4+1 -> 44321 | AJ4: =AI4+1 -> 44322 | AK4: =AJ4+1 -> 44323 | AL4: =AK4+1 -> 44324 | AM4: =AL4+1 -> 44325
B5: Full name of Head of Dept. | G5: ='Riepilogo tsh'!B6 -> 0 | AG5: =AM4+1 -> 44326 | AH5: =AG5+1 -> 44327 | AI5: =AH5+1 -> 44328 | AJ5: =AI5+1 -> 44329 | AK5: =AJ5+1 -> 44330 | AL5: =AK5+1 -> 44331 | AM5: =AL5+1 -> 44332
AG6: =AM5+1 -> 44333 | AH6: =AG6+1 -> 44334 | AI6: =AH6+1 -> 44335 | AJ6: =AI6+1 -> 44336 | AK6: =AJ6+1 -> 44337 | AL6: =AK6+1 -> 44338 | AM6: =AL6+1 -> 44339
B7: Year | C7: ='Impostazioni calendario'!F6 -> 2021 | AG7: =AM6+1 -> 44340 | AH7: =AG7+1 -> 44341 | AI7: =AH7+1 -> 44342 | AJ7: =AI7+1 -> 44343 | AK7: =AJ7+1 -> 44344 | AL7: =AK7+1 -> 44345 | AM7: =AL7+1 -> 44346
AG8: =AM7+1 -> 44347 | AH8: =AG8+1 -> 44348 | AI8: =AH8+1 -> 44349 | AJ8: =AI8+1 -> 44350 | AK8: =AJ8+1 -> 44351 | AL8: =AK8+1 -> 44352 | AM8: =AL8+1 -> 44353
B10: =AG1 -> May | E10: Mo | F10: Tu | G10: We | H10: Th | I10: Fr | J10: Sa | K10: Su | L10: Mo | M10: Tu | N10: We | O10: Th | P10: Fr | Q10: Sa | R10: Su | S10: Mo | T10: Tu | U10: We | V10: Th | W10: Fr | X10: Sa | Y10: Su | Z10: Mo | AA10: Tu | AB10: We | AC10: Th | AD10: Fr | AE10: Sa | AF10: Su | AG10: Mo | AH10: Tu | AI10: We | AJ10: Th | AK10: Fr | AL10: Sa | AM10: Su | AN10: Mo | AO10: Tu | AP10: We | AQ10: Th | AR10: Fr | AS10: Sa | AT10: Su | AU10: Total
E11: =AG3 -> 44312 | F11: =AH3 -> 44313 | G11: =AI3 -> 44314 | H11: =AJ3 -> 44315 | I11: =AK3 -> 44316 | J11: =AL3 -> 44317 | K11: =AM3 -> 44318 | L11: =AG4 -> 44319 | M11: =AH4 -> 44320 | N11: =AI4 -> 44321 | O11: =AJ4 -> 44322 | P11: =AK4 -> 44323 | Q11: =AL4 -> 44324 | R11: =AM4 -> 44325 | S11: =AG5 -> 44326 | T11: =AH5 -> 44327 | U11: =AI5 -> 44328 | V11: =AJ5 -> 44329 | W11: =AK5 -> 44330 | X11: =AL5 -> 44331 | Y11: =AM5 -> 44332 | Z11: =AG6 -> 44333 | AA11: =AH6 -> 44334 | AB11: =AI6 -> 44335 | AC11: =AJ6 -> 44336 | AD11: =AK6 -> 44337 | AE11: =AL6 -> 44338 | AF11: =AM6 -> 44339 | AG11: =AG7 -> 44340 | AH11: =AH7 -> 44341 | AI11: =AI7 -> 44342 | AJ11: =AJ7 -> 44343 | AK11: =AK7 -> 44344 | AL11: =AL7 -> 44345 | AM11: =AG8 -> 44347 | AN11: =AH8 -> 44348 | AO11: =AI8 -> 44349 | AP11: =AJ8 -> 44350 | AQ11: =AK8 -> 44351 | AR11: =AL8 -> 44352 | AT11: =AM8 -> 44353
B12: ='Riepilogo tsh'!B12 -> Institutional research | AU12: =SUM(E12:AT12) -> 0
B13: ='Riepilogo tsh'!B13 -> 0 | E13: =SUM(E14:E18) -> 0 | F13: =SUM(F14:F18) -> 0 | G13: =SUM(G14:G18) -> 0 | H13: =SUM(H14:H18) -> 0 | I13: =SUM(I14:I18) -> 0 | J13: =SUM(J14:J18) -> 0 | K13: =SUM(K14:K18) -> 0 | L13: =SUM(L14:L18) -> 0 | ... AT13: =SUM(AT14:AT18) -> 0 | AU13: =SUM(E13:AT13) -> 0
B14: ='Riepilogo tsh'!L13 -> WP1 | AU14: =SUM(E14:AT14) -> 0
B15: ='Riepilogo tsh'!M13 -> WP2 | AU15: =SUM(E15:AT15) -> 0
B16: ='Riepilogo tsh'!N13 -> WP3 | AU16: =SUM(E16:AT16) -> 0
B17: ='Riepilogo tsh'!O13 -> WP 4 | AU17: =SUM(E17:AT17) -> 0
B18: WP 5
B19: Teaching activities | AU19: =SUM(E19:AT19) -> 0
B20: Institutional activities | AU20: =SUM(E20:AT20) -> 0
B21: Other activities | AU21: =SUM(E21:AT21) -> 0
B22: Total hours | E22: =E12+E13+E19+E20+E21 -> 0 | F22: =F12+F13+F19+F20+F21 -> 0 | G22: =G12+G13+G19+G20+G21 -> 0 | H22: =H12+H13+H19+H20+H21 -> 0 | I22: =I12+I13+I19+I20+I21 -> 0 | J22: =J12+J13+J19+J20+J21 -> 0 | K22: =K12+K13+K19+K20+K21 -> 0 | L22: =L12+L13+L19+L20+L21 -> 0 | ... AT22: =AT12+AT13+AT19+AT20+AT21 -> 0 | AU22: =SUM(E22:AT22) -> 0
B24: Short description of the activities carried out in the month: | D24: ='Riepilogo tsh'!B13 -> 0
C30: Signed | AD30: Signed
C31: ='Riepilogo tsh'!B5 -> 0 | AD31: =G5 -> 0
C33: Date: | AC33: Date:

Sheet June
B1: Full name of beneficiary | G1: ='Riepilogo tsh'!B4 -> Università degli studi di Napoli Federico II-Dipartimento di Giurisprudenza | AF1: 6 | AG1: June
AF2: =DATE(Anno,AF1,1) -> 44348 | AG2: Mo | AH2: Tu | AI2: We | AJ2: Th | AK2: Fr | AL2: Sa | AM2: Su | AV2: Go to summary
B3: Full name of employee | G3: ='Riepilogo tsh'!B5 -> 0 | AG3: =(AF2-WEEKDAY(AF2,3)) -> 44347 | AH3: =AG3+1 -> 44348 | AI3: =AH3+1 -> 44349 | AJ3: =AI3+1 -> 44350 | AK3: =AJ3+1 -> 44351 | AL3: =AK3+1 -> 44352 | AM3: =AL3+1 -> 44353
AG4: =AM3+1 -> 44354 | AH4: =AG4+1 -> 44355 | AI4: =AH4+1 -> 44356 | AJ4: =AI4+1 -> 44357 | AK4: =AJ4+1 -> 44358 | AL4: =AK4+1 -> 44359 | AM4: =AL4+1 -> 44360
B5: Full name of Head of Dept. | G5: ='Riepilogo tsh'!B6 -> 0 | AG5: =AM4+1 -> 44361 | AH5: =AG5+1 -> 44362 | AI5: =AH5+1 -> 44363 | AJ5: =AI5+1 -> 44364 | AK5: =AJ5+1 -> 44365 | AL5: =AK5+1 -> 44366 | AM5: =AL5+1 -> 44367
AG6: =AM5+1 -> 44368 | AH6: =AG6+1 -> 44369 | AI6: =AH6+1 -> 44370 | AJ6: =AI6+1 -> 44371 | AK6: =AJ6+1 -> 44372 | AL6: =AK6+1 -> 44373 | AM6: =AL6+1 -> 44374
B7: Year | C7: ='Impostazioni calendario'!F6 -> 2021 | AG7: =AM6+1 -> 44375 | AH7: =AG7+1 -> 44376 | AI7: =AH7+1 -> 44377 | AJ7: =AI7+1 -> 44378 | AK7: =AJ7+1 -> 44379 | AL7: =AK7+1 -> 44380 | AM7: =AL7+1 -> 44381
AG8: =AM7+1 -> 44382 | AH8: =AG8+1 -> 44383 | AI8: =AH8+1 -> 44384 | AJ8: =AI8+1 -> 44385 | AK8: =AJ8+1 -> 44386 | AL8: =AK8+1 -> 44387 | AM8: =AL8+1 -> 44388
B10: =AG1 -> June | E10: Mo | F10: Tu | G10: We | H10: Th | I10: Fr | J10: Sa | K10: Su | L10: Mo | M10: Tu | N10: We | O10: Th | P10: Fr | Q10: Sa | R10: Su | S10: Mo | T10: Tu | U10: We | V10: Th | W10: Fr | X10: Sa | Y10: Su | Z10: Mo | AA10: Tu | AB10: We | AC10: Th | AD10: Fr | AE10: Sa | AF10: Su | AG10: Mo | AH10: Tu | AI10: We | AJ10: Th | AK10: Fr | AL10: Sa | AM10: Su | AN10: Mo | AO10: Tu | AP10: We | AQ10: Th | AR10: Fr | AS10: Sa | AT10: Su | AU10: Total
E11: =AG3 -> 44347 | F11: =AH3 -> 44348 | G11: =AI3 -> 44349 | H11: =AJ3 -> 44350 | I11: =AK3 -> 44351 | J11: =AL3 -> 44352 | K11: =AM3 -> 44353 | L11: =AG4 -> 44354 | M11: =AH4 -> 44355 | N11: =AI4 -> 44356 | O11: =AJ4 -> 44357 | P11: =AK4 -> 44358 | Q11: =AL4 -> 44359 | R11: =AM4 -> 44360 | S11: =AG5 -> 44361 | T11: =AH5 -> 44362 | U11: =AI5 -> 44363 | V11: =AJ5 -> 44364 | W11: =AK5 -> 44365 | X11: =AL5 -> 44366 | Y11: =AM5 -> 44367 | Z11: =AG6 -> 44368 | AA11: =AH6 -> 44369 | AB11: =AI6 -> 44370 | AC11: =AJ6 -> 44371 | AD11: =AK6 -> 44372 | AE11: =AL6 -> 44373 | AF11: =AM6 -> 44374 | AG11: =AG7 -> 44375 | AH11: =AH7 -> 44376 | AI11: =AI7 -> 44377 | AJ11: =AJ7 -> 44378 | AK11: =AK7 -> 44379 | AL11: =AL7 -> 44380 | AM11: =AG8 -> 44382 | AN11: =AH8 -> 44383 | AO11: =AI8 -> 44384 | AP11: =AJ8 -> 44385 | AQ11: =AK8 -> 44386 | AR11: =AL8 -> 44387 | AT11: =AM8 -> 44388
B12: ='Riepilogo tsh'!B12 -> Institutional research | AU12: =SUM(E12:AT12) -> 0
B13: ='Riepilogo tsh'!B13 -> 0 | E13: =SUM(E14:E18) -> 0 | F13: =SUM(F14:F18) -> 0 | G13: =SUM(G14:G18) -> 0 | H13: =SUM(H14:H18) -> 0 | I13: =SUM(I14:I18) -> 0 | J13: =SUM(J14:J18) -> 0 | K13: =SUM(K14:K18) -> 0 | L13: =SUM(L14:L18) -> 0 | ... AT13: =SUM(AT14:AT18) -> 0 | AU13: =SUM(E13:AT13) -> 0
B14: ='Riepilogo tsh'!L13 -> WP1 | AU14: =SUM(E14:AT14) -> 0
B15: ='Riepilogo tsh'!M13 -> WP2 | AU15: =SUM(E15:AT15) -> 0
B16: ='Riepilogo tsh'!N13 -> WP3 | AU16: =SUM(E16:AT16) -> 0
B17: ='Riepilogo tsh'!O13 -> WP 4 | AU17: =SUM(E17:AT17) -> 0
B18: WP5
B19: Teaching activities | AU19: =SUM(E19:AT19) -> 0
B20: Institutional activities | AU20: =SUM(E20:AT20) -> 0
B21: Other activities | AU21: =SUM(E21:AT21) -> 0
B22: Total hours | E22: =E12+E13+E19+E20+E21 -> 0 | F22: =F12+F13+F19+F20+F21 -> 0 | G22: =G12+G13+G19+G20+G21 -> 0 | H22: =H12+H13+H19+H20+H21 -> 0 | I22: =I12+I13+I19+I20+I21 -> 0 | J22: =J12+J13+J19+J20+J21 -> 0 | K22: =K12+K13+K19+K20+K21 -> 0 | L22: =L12+L13+L19+L20+L21 -> 0 | ... AT22: =AT12+AT13+AT19+AT20+AT21 -> 0 | AU22: =SUM(E22:AT22) -> 0
B24: Short description of the activities carried out in the month: | D24: ='Riepilogo tsh'!B13 -> 0
C30: Signed | AD30: Signed
C31: ='Riepilogo tsh'!B5 -> 0 | AD31: =G5 -> 0
C33: Date: | AC33: Date:

Sheet July
B1: Full name of beneficiary | G1: ='Riepilogo tsh'!B4 -> Università degli studi di Napoli Federico II-Dipartimento di Giurisprudenza | V1: Ruolo/Qualifica | Z1: ='Riepilogo tsh'!B8 -> 0 | AF1: 7 | AG1: July
AF2: =DATE(Anno,AF1,1) -> 44378 | AG2: Mo | AH2: Tu | AI2: We | AJ2: Th | AK2: Fr | AL2: Sa | AM2: Su | AV2: Go to summary
B3: Full name of employee | G3: ='Riepilogo tsh'!B5 -> 0 | V3: Classe | Z3: ='Riepilogo tsh'!B9 -> 0 | AG3: =(AF2-WEEKDAY(AF2,3)) -> 44375 | AH3: =AG3+1 -> 44376 | AI3: =AH3+1 -> 44377 | AJ3: =AI3+1 -> 44378 | AK3: =AJ3+1 -> 44379 | AL3: =AK3+1 -> 44380 | AM3: =AL3+1 -> 44381
AG4: =AM3+1 -> 44382 | AH4: =AG4+1 -> 44383 | AI4: =AH4+1 -> 44384 | AJ4: =AI4+1 -> 44385 | AK4: =AJ4+1 -> 44386 | AL4: =AK4+1 -> 44387 | AM4: =AL4+1 -> 44388
B5: Full name of Head of Dept. | G5: ='Riepilogo tsh'!B6 -> 0 | V5: Scatto | Z5: ='Riepilogo tsh'!#REF! -> #REF! | AG5: =AM4+1 -> 44389 | AH5: =AG5+1 -> 44390 | AI5: =AH5+1 -> 44391 | AJ5: =AI5+1 -> 44392 | AK5: =AJ5+1 -> 44393 | AL5: =AK5+1 -> 44394 | AM5: =AL5+1 -> 44395
AG6: =AM5+1 -> 44396 | AH6: =AG6+1 -> 44397 | AI6: =AH6+1 -> 44398 | AJ6: =AI6+1 -> 44399 | AK6: =AJ6+1 -> 44400 | AL6: =AK6+1 -> 44401 | AM6: =AL6+1 -> 44402
B7: Year | C7: ='Impostazioni calendario'!F6 -> 2021 | V7: Full/part-time | Z7: ='Riepilogo tsh'!B10 -> 0 | AG7: =AM6+1 -> 44403 | AH7: =AG7+1 -> 44404 | AI7: =AH7+1 -> 44405 | AJ7: =AI7+1 -> 44406 | AK7: =AJ7+1 -> 44407 | AL7: =AK7+1 -> 44408 | AM7: =AL7+1 -> 44409
AG8: =AM7+1 -> 44410 | AH8: =AG8+1 -> 44411 | AI8: =AH8+1 -> 44412 | AJ8: =AI8+1 -> 44413 | AK8: =AJ8+1 -> 44414 | AL8: =AK8+1 -> 44415 | AM8: =AL8+1 -> 44416
B10: =AG1 -> July | E10: Mo | F10: Tu | G10: We | H10: Th | I10: Fr | J10: Sa | K10: Su | L10: Mo | M10: Tu | N10: We | O10: Th | P10: Fr | Q10: Sa | R10: Su | S10: Mo | T10: Tu | U10: We | V10: Th | W10: Fr | X10: Sa | Y10: Su | Z10: Mo | AA10: Tu | AB10: We | AC10: Th | AD10: Fr | AE10: Sa | AF10: Su | AG10: Mo | AH10: Tu | AI10: We | AJ10: Th | AK10: Fr | AL10: Sa | AM10: Su | AN10: Mo | AO10: Tu | AP10: We | AQ10: Th | AR10: Fr | AS10: Sa | AT10: Su | AU10: Total
E11: =AG3 -> 44375 | F11: =AH3 -> 44376 | G11: =AI3 -> 44377 | H11: =AJ3 -> 44378 | I11: =AK3 -> 44379 | J11: =AL3 -> 44380 | K11: =AM3 -> 44381 | L11: =AG4 -> 44382 | M11: =AH4 -> 44383 | N11: =AI4 -> 44384 | O11: =AJ4 -> 44385 | P11: =AK4 -> 44386 | Q11: =AL4 -> 44387 | R11: =AM4 -> 44388 | S11: =AG5 -> 44389 | T11: =AH5 -> 44390 | U11: =AI5 -> 44391 | V11: =AJ5 -> 44392 | W11: =AK5 -> 44393 | X11: =AL5 -> 44394 | Y11: =AM5 -> 44395 | Z11: =AG6 -> 44396 | AA11: =AH6 -> 44397 | AB11: =AI6 -> 44398 | AC11: =AJ6 -> 44399 | AD11: =AK6 -> 44400 | AE11: =AL6 -> 44401 | AF11: =AM6 -> 44402 | AG11: =AG7 -> 44403 | AH11: =AH7 -> 44404 | AI11: =AI7 -> 44405 | AJ11: =AJ7 -> 44406 | AK11: =AK7 -> 44407 | AL11: =AL7 -> 44408 | AM11: =AG8 -> 44410 | AN11: =AH8 -> 44411 | AO11: =AI8 -> 44412 | AP11: =AJ8 -> 44413 | AQ11: =AK8 -> 44414 | AR11: =AL8 -> 44415 | AT11: =AM8 -> 44416
B12: ='Riepilogo tsh'!B12 -> Institutional research | AU12: =SUM(E12:AT12) -> 0
B13: ='Riepilogo tsh'!B13 -> 0 | E13: =SUM(E14:E18) -> 0 | F13: =SUM(F14:F18) -> 0 | G13: =SUM(G14:G18) -> 0 | H13: =SUM(H14:H18) -> 0 | I13: =SUM(I14:I18) -> 0 | J13: =SUM(J14:J18) -> 0 | K13: =SUM(K14:K18) -> 0 | L13: =SUM(L14:L18) -> 0 | ... AT13: =SUM(AT14:AT18) -> 0 | AU13: =SUM(E13:AT13) -> 0
B14: ='Riepilogo tsh'!L13 -> WP1 | AU14: =SUM(E14:AT14) -> 0
B15: ='Riepilogo tsh'!M13 -> WP2 | AU15: =SUM(E15:AT15) -> 0
B16: ='Riepilogo tsh'!N13 -> WP3 | AU16: =SUM(E16:AT16) -> 0
B17: ='Riepilogo tsh'!O13 -> WP 4 | AU17: =SUM(E17:AT17) -> 0
B18: WP 5
B19: Teaching activities | AU19: =SUM(E19:AT19) -> 0
B20: Institutional activities | AU20: =SUM(E20:AT20) -> 0
B21: Other activities | AU21: =SUM(E21:AT21) -> 0
B22: Total hours | E22: =E12+E13+E19+E20+E21 -> 0 | F22: =F12+F13+F19+F20+F21 -> 0 | G22: =G12+G13+G19+G20+G21 -> 0 | H22: =H12+H13+H19+H20+H21 -> 0 | I22: =I12+I13+I19+I20+I21 -> 0 | J22: =J12+J13+J19+J20+J21 -> 0 | K22: =K12+K13+K19+K20+K21 -> 0 | L22: =L12+L13+L19+L20+L21 -> 0 | ... AT22: =AT12+AT13+AT19+AT20+AT21 -> 0 | AU22: =SUM(E22:AT22) -> 0
B24: Short description of the activities carried out in the month: | D24: ='Riepilogo tsh'!B13 -> 0
C30: Signed | AD30: Signed
C31: ='Riepilogo tsh'!B5 -> 0 | AD31: =G5 -> 0
C33: Date: | AC33: Date:

Sheet August
B1: Full name of beneficiary | G1: ='Riepilogo tsh'!B4 -> Università degli studi di Napoli Federico II-Dipartimento di Giurisprudenza | AF1: 8 | AG1: August
AF2: =DATE(Anno,AF1,1) -> 44409 | AG2: Mo | AH2: Tu | AI2: We | AJ2: Th | AK2: Fr | AL2: Sa | AM2: Su | AV2: Go to summary
B3: Full name of employee | G3: ='Riepilogo tsh'!B5 -> 0 | AG3: =(AF2-WEEKDAY(AF2,3)) -> 44403 | AH3: =AG3+1 -> 44404 | AI3: =AH3+1 -> 44405 | AJ3: =AI3+1 -> 44406 | AK3: =AJ3+1 -> 44407 | AL3: =AK3+1 -> 44408 | AM3: =AL3+1 -> 44409
AG4: =AM3+1 -> 44410 | AH4: =AG4+1 -> 44411 | AI4: =AH4+1 -> 44412 | AJ4: =AI4+1 -> 44413 | AK4: =AJ4+1 -> 44414 | AL4: =AK4+1 -> 44415 | AM4: =AL4+1 -> 44416
B5: Full name of Head of Dept. | G5: ='Riepilogo tsh'!B6 -> 0 | AG5: =AM4+1 -> 44417 | AH5: =AG5+1 -> 44418 | AI5: =AH5+1 -> 44419 | AJ5: =AI5+1 -> 44420 | AK5: =AJ5+1 -> 44421 | AL5: =AK5+1 -> 44422 | AM5: =AL5+1 -> 44423
AG6: =AM5+1 -> 44424 | AH6: =AG6+1 -> 44425 | AI6: =AH6+1 -> 44426 | AJ6: =AI6+1 -> 44427 | AK6: =AJ6+1 -> 44428 | AL6: =AK6+1 -> 44429 | AM6: =AL6+1 -> 44430
B7: Year | C7: ='Impostazioni calendario'!F6 -> 2021 | AG7: =AM6+1 -> 44431 | AH7: =AG7+1 -> 44432 | AI7: =AH7+1 -> 44433 | AJ7: =AI7+1 -> 44434 | AK7: =AJ7+1 -> 44435 | AL7: =AK7+1 -> 44436 | AM7: =AL7+1 -> 44437
AG8: =AM7+1 -> 44438 | AH8: =AG8+1 -> 44439 | AI8: =AH8+1 -> 44440 | AJ8: =AI8+1 -> 44441 | AK8: =AJ8+1 -> 44442 | AL8: =AK8+1 -> 44443 | AM8: =AL8+1 -> 44444
B10: =AG1 -> August | E10: Mo | F10: Tu | G10: We | H10: Th | I10: Fr | J10: Sa | K10: Su | L10: Mo | M10: Tu | N10: We | O10: Th | P10: Fr | Q10: Sa | R10: Su | S10: Mo | T10: Tu | U10: We | V10: Th | W10: Fr | X10: Sa | Y10: Su | Z10: Mo | AA10: Tu | AB10: We | AC10: Th | AD10: Fr | AE10: Sa | AF10: Su | AG10: Mo | AH10: Tu | AI10: We | AJ10: Th | AK10: Fr | AL10: Sa | AM10: Su | AN10: Mo | AO10: Tu | AP10: We | AQ10: Th | AR10: Fr | AS10: Sa | AT10: Su | AU10: Total
E11: =AG3 -> 44403 | F11: =AH3 -> 44404 | G11: =AI3 -> 44405 | H11: =AJ3 -> 44406 | I11: =AK3 -> 44407 | J11: =AL3 -> 44408 | K11: =AM3 -> 44409 | L11: =AG4 -> 44410 | M11: =AH4 -> 44411 | N11: =AI4 -> 44412 | O11: =AJ4 -> 44413 | P11: =AK4 -> 44414 | Q11: =AL4 -> 44415 | R11: =AM4 -> 44416 | S11: =AG5 -> 44417 | T11: =AH5 -> 44418 | U11: =AI5 -> 44419 | V11: =AJ5 -> 44420 | W11: =AK5 -> 44421 | X11: =AL5 -> 44422 | Y11: =AM5 -> 44423 | Z11: =AG6 -> 44424 | AA11: =AH6 -> 44425 | AB11: =AI6 -> 44426 | AC11: =AJ6 -> 44427 | AD11: =AK6 -> 44428 | AE11: =AL6 -> 44429 | AF11: =AM6 -> 44430 | AG11: =AG7 -> 44431 | AH11: =AH7 -> 44432 | AI11: =AI7 -> 44433 | AJ11: =AJ7 -> 44434 | AK11: =AK7 -> 44435 | AL11: =AL7 -> 44436 | AM11: =AG8 -> 44438 | AN11: =AH8 -> 44439 | AO11: =AI8 -> 44440 | AP11: =AJ8 -> 44441 | AQ11: =AK8 -> 44442 | AR11: =AL8 -> 44443 | AT11: =AM8 -> 44444
B12: ='Riepilogo tsh'!B12 -> Institutional research | AU12: =SUM(E12:AT12) -> 0
B13: ='Riepilogo tsh'!B13 -> 0 | E13: =SUM(E14:E19) -> 0 | F13: =SUM(F14:F19) -> 0 | G13: =SUM(G14:G19) -> 0 | H13: =SUM(H14:H19) -> 0 | I13: =SUM(I14:I19) -> 0 | J13: =SUM(J14:J19) -> 0 | K13: =SUM(K14:K19) -> 0 | L13: =SUM(L14:L19) -> 0 | ... AT13: =SUM(AT14:AT19) -> 0 | AU13: =SUM(E13:AT13) -> 0
B14: ='Riepilogo tsh'!L13 -> WP1 | AU14: =SUM(E14:AT14) -> 0
B15: ='Riepilogo tsh'!M13 -> WP2 | AU15: =SUM(E15:AT15) -> 0
B16: ='Riepilogo tsh'!N13 -> WP3 | AU16: =SUM(E16:AT16) -> 0
B17: ='Riepilogo tsh'!O13 -> WP 4 | AU17: =SUM(E17:AT17) -> 0
B18: WP 5
B19: Teaching activities | AU19: =SUM(E19:AT19) -> 0
B20: Institutional activities | AU20: =SUM(E20:AT20) -> 0
B21: Other activities | AU21: =SUM(E21:AT21) -> 0
B22: Total hours | E22: =E12+E13+E19+E20+E21 -> 0 | F22: =F12+F13+F19+F20+F21 -> 0 | G22: =G12+G13+G19+G20+G21 -> 0 | H22: =H12+H13+H19+H20+H21 -> 0 | I22: =I12+I13+I19+I20+I21 -> 0 | J22: =J12+J13+J19+J20+J21 -> 0 | K22: =K12+K13+K19+K20+K21 -> 0 | L22: =L12+L13+L19+L20+L21 -> 0 | ... AT22: =AT12+AT13+AT19+AT20+AT21 -> 0 | AU22: =SUM(E22:AT22) -> 0
B24: Short description of the activities carried out in the month: | D24: ='Riepilogo tsh'!B13 -> 0
C30: Signed | AD30: Signed
C31: ='Riepilogo tsh'!B5 -> 0 | AD31: =G5 -> 0
C33: Date: | AC33: Date:

Sheet September
B1: Full name of beneficiary | G1: ='Riepilogo tsh'!B4 -> Università degli studi di Napoli Federico II-Dipartimento di Giurisprudenza | AF1: 9 | AG1: September
AF2: =DATE(Anno,AF1,1) -> 44440 | AG2: Mo | AH2: Tu | AI2: We | AJ2: Th | AK2: Fr | AL2: Sa | AM2: Su | AV2: Go to summary
B3: Full name of employee | G3: ='Riepilogo tsh'!B5 -> 0 | AG3: =(AF2-WEEKDAY(AF2,3)) -> 44438 | AH3: =AG3+1 -> 44439 | AI3: =AH3+1 -> 44440 | AJ3: =AI3+1 -> 44441 | AK3: =AJ3+1 -> 44442 | AL3: =AK3+1 -> 44443 | AM3: =AL3+1 -> 44444
AG4: =AM3+1 -> 44445 | AH4: =AG4+1 -> 44446 | AI4: =AH4+1 -> 44447 | AJ4: =AI4+1 -> 44448 | AK4: =AJ4+1 -> 44449 | AL4: =AK4+1 -> 44450 | AM4: =AL4+1 -> 44451
B5: Full name of Head of Dept. | G5: ='Riepilogo tsh'!B6 -> 0 | AG5: =AM4+1 -> 44452 | AH5: =AG5+1 -> 44453 | AI5: =AH5+1 -> 44454 | AJ5: =AI5+1 -> 44455 | AK5: =AJ5+1 -> 44456 | AL5: =AK5+1 -> 44457 | AM5: =AL5+1 -> 44458
AG6: =AM5+1 -> 44459 | AH6: =AG6+1 -> 44460 | AI6: =AH6+1 -> 44461 | AJ6: =AI6+1 -> 44462 | AK6: =AJ6+1 -> 44463 | AL6: =AK6+1 -> 44464 | AM6: =AL6+1 -> 44465
B7: Year | C7: ='Impostazioni calendario'!F6 -> 2021 | AG7: =AM6+1 -> 44466 | AH7: =AG7+1 -> 44467 | AI7: =AH7+1 -> 44468 | AJ7: =AI7+1 -> 44469 | AK7: =AJ7+1 -> 44470 | AL7: =AK7+1 -> 44471 | AM7: =AL7+1 -> 44472
AG8: =AM7+1 -> 44473 | AH8: =AG8+1 -> 44474 | AI8: =AH8+1 -> 44475 | AJ8: =AI8+1 -> 44476 | AK8: =AJ8+1 -> 44477 | AL8: =AK8+1 -> 44478 | AM8: =AL8+1 -> 44479
B10: =AG1 -> September | E10: Mo | F10: Tu | G10: We | H10: Th | I10: Fr | J10: Sa | K10: Su | L10: Mo | M10: Tu | N10: We | O10: Th | P10: Fr | Q10: Sa | R10: Su | S10: Mo | T10: Tu | U10: We | V10: Th | W10: Fr | X10: Sa | Y10: Su | Z10: Mo | AA10: Tu | AB10: We | AC10: Th | AD10: Fr | AE10: Sa | AF10: Su | AG10: Mo | AH10: Tu | AI10: We | AJ10: Th | AK10: Fr | AL10: Sa | AM10: Su | AN10: Mo | AO10: Tu | AP10: We | AQ10: Th | AR10: Fr | AS10: Sa | AT10: Su | AU10: Total
E11: =AG3 -> 44438 | F11: =AH3 -> 44439 | G11: =AI3 -> 44440 | H11: =AJ3 -> 44441 | I11: =AK3 -> 44442 | J11: =AL3 -> 44443 | K11: =AM3 -> 44444 | L11: =AG4 -> 44445 | M11: =AH4 -> 44446 | N11: =AI4 -> 44447 | O11: =AJ4 -> 44448 | P11: =AK4 -> 44449 | Q11: =AL4 -> 44450 | R11: =AM4 -> 44451 | S11: =AG5 -> 44452 | T11: =AH5 -> 44453 | U11: =AI5 -> 44454 | V11: =AJ5 -> 44455 | W11: =AK5 -> 44456 | X11: =AL5 -> 44457 | Y11: =AM5 -> 44458 | Z11: =AG6 -> 44459 | AA11: =AH6 -> 44460 | AB11: =AI6 -> 44461 | AC11: =AJ6 -> 44462 | AD11: =AK6 -> 44463 | AE11: =AL6 -> 44464 | AF11: =AM6 -> 44465 | AG11: =AG7 -> 44466 | AH11: =AH7 -> 44467 | AI11: =AI7 -> 44468 | AJ11: =AJ7 -> 44469 | AK11: =AK7 -> 44470 | AL11: =AL7 -> 44471 | AM11: =AG8 -> 44473 | AN11: =AH8 -> 44474 | AO11: =AI8 -> 44475 | AP11: =AJ8 -> 44476 | AQ11: =AK8 -> 44477 | AR11: =AL8 -> 44478 | AT11: =AM8 -> 44479
B12: ='Riepilogo tsh'!B12 -> Institutional research | AU12: =SUM(E12:AT12) -> 0
B13: ='Riepilogo tsh'!B13 -> 0 | E13: =SUM(E14:E18) -> 0 | F13: =SUM(F14:F18) -> 0 | G13: =SUM(G14:G18) -> 0 | H13: =SUM(H14:H18) -> 0 | I13: =SUM(I14:I18) -> 0 | J13: =SUM(J14:J18) -> 0 | K13: =SUM(K14:K18) -> 0 | L13: =SUM(L14:L18) -> 0 | ... AT13: =SUM(AT14:AT18) -> 0 | AU13: =SUM(E13:AT13) -> 0
B14: ='Riepilogo tsh'!L13 -> WP1 | AU14: =SUM(E14:AT14) -> 0
B15: ='Riepilogo tsh'!M13 -> WP2 | AU15: =SUM(E15:AT15) -> 0
B16: ='Riepilogo tsh'!N13 -> WP3 | AU16: =SUM(E16:AT16) -> 0
B17: ='Riepilogo tsh'!O13 -> WP 4 | AU17: =SUM(E17:AT17) -> 0
B18: WP 5
B19: Teaching activities | AU19: =SUM(E19:AT19) -> 0
B20: Institutional activities | AU20: =SUM(E20:AT20) -> 0
B21: Other activities | AU21: =SUM(E21:AT21) -> 0
B22: Total hours | E22: =E12+E13+E19+E20+E21 -> 0 | F22: =F12+F13+F19+F20+F21 -> 0 | G22: =G12+G13+G19+G20+G21 -> 0 | H22: =H12+H13+H19+H20+H21 -> 0 | I22: =I12+I13+I19+I20+I21 -> 0 | J22: =J12+J13+J19+J20+J21 -> 0 | K22: =K12+K13+K19+K20+K21 -> 0 | L22: =L12+L13+L19+L20+L21 -> 0 | ... AT22: =AT12+AT13+AT19+AT20+AT21 -> 0 | AU22: =SUM(E22:AT22) -> 0
B24: Short description of the activities carried out in the month: | D24: ='Riepilogo tsh'!B13 -> 0
C30: Signed | AD30: Signed
C31: ='Riepilogo tsh'!B5 -> 0 | AD31: =G5 -> 0
C33: Date: | AC33: Date:

Sheet October
B1: Full name of beneficiary | G1: ='Riepilogo tsh'!B4 -> Università degli studi di Napoli Federico II-Dipartimento di Giurisprudenza | V1: Ruolo/Qualifica | Z1: ='Riepilogo tsh'!B8 -> 0 | AF1: 10 | AG1: October
AF2: =DATE(Anno,AF1,1) -> 44470 | AG2: Mo | AH2: Tu | AI2: We | AJ2: Th | AK2: Fr | AL2: Sa | AM2: Su | AV2: Go to summary
B3: Full name of employee | G3: ='Riepilogo tsh'!B5 -> 0 | V3: Classe | Z3: ='Riepilogo tsh'!B9 -> 0 | AG3: =(AF2-WEEKDAY(AF2,3)) -> 44466 | AH3: =AG3+1 -> 44467 | AI3: =AH3+1 -> 44468 | AJ3: =AI3+1 -> 44469 | AK3: =AJ3+1 -> 44470 | AL3: =AK3+1 -> 44471 | AM3: =AL3+1 -> 44472
AG4: =AM3+1 -> 44473 | AH4: =AG4+1 -> 44474 | AI4: =AH4+1 -> 44475 | AJ4: =AI4+1 -> 44476 | AK4: =AJ4+1 -> 44477 | AL4: =AK4+1 -> 44478 | AM4: =AL4+1 -> 44479
B5: Full name of Head of Dept. | G5: ='Riepilogo tsh'!B6 -> 0 | V5: Scatto | Z5: ='Riepilogo tsh'!#REF! -> #REF! | AG5: =AM4+1 -> 44480 | AH5: =AG5+1 -> 44481 | AI5: =AH5+1 -> 44482 | AJ5: =AI5+1 -> 44483 | AK5: =AJ5+1 -> 44484 | AL5: =AK5+1 -> 44485 | AM5: =AL5+1 -> 44486
AG6: =AM5+1 -> 44487 | AH6: =AG6+1 -> 44488 | AI6: =AH6+1 -> 44489 | AJ6: =AI6+1 -> 44490 | AK6: =AJ6+1 -> 44491 | AL6: =AK6+1 -> 44492 | AM6: =AL6+1 -> 44493
B7: Year | C7: ='Impostazioni calendario'!F6 -> 2021 | V7: Full/part-time | Z7: ='Riepilogo tsh'!B10 -> 0 | AG7: =AM6+1 -> 44494 | AH7: =AG7+1 -> 44495 | AI7: =AH7+1 -> 44496 | AJ7: =AI7+1 -> 44497 | AK7: =AJ7+1 -> 44498 | AL7: =AK7+1 -> 44499 | AM7: =AL7+1 -> 44500
AG8: =AM7+1 -> 44501 | AH8: =AG8+1 -> 44502 | AI8: =AH8+1 -> 44503 | AJ8: =AI8+1 -> 44504 | AK8: =AJ8+1 -> 44505 | AL8: =AK8+1 -> 44506 | AM8: =AL8+1 -> 44507
B10: =AG1 -> October | E10: Mo | F10: Tu | G10: We | H10: Th | I10: Fr | J10: Sa | K10: Su | L10: Mo | M10: Tu | N10: We | O10: Th | P10: Fr | Q10: Sa | R10: Su | S10: Mo | T10: Tu | U10: We | V10: Th | W10: Fr | X10: Sa | Y10: Su | Z10: Mo | AA10: Tu | AB10: We | AC10: Th | AD10: Fr | AE10: Sa | AF10: Su | AG10: Mo | AH10: Tu | AI10: We | AJ10: Th | AK10: Fr | AL10: Sa | AM10: Su | AN10: Mo | AO10: Tu | AP10: We | AQ10: Th | AR10: Fr | AS10: Sa | AT10: Su | AU10: Total
E11: =AG3 -> 44466 | F11: =AH3 -> 44467 | G11: =AI3 -> 44468 | H11: =AJ3 -> 44469 | I11: =AK3 -> 44470 | J11: =AL3 -> 44471 | K11: =AM3 -> 44472 | L11: =AG4 -> 44473 | M11: =AH4 -> 44474 | N11: =AI4 -> 44475 | O11: =AJ4 -> 44476 | P11: =AK4 -> 44477 | Q11: =AL4 -> 44478 | R11: =AM4 -> 44479 | S11: =AG5 -> 44480 | T11: =AH5 -> 44481 | U11: =AI5 -> 44482 | V11: =AJ5 -> 44483 | W11: =AK5 -> 44484 | X11: =AL5 -> 44485 | Y11: =AM5 -> 44486 | Z11: =AG6 -> 44487 | AA11: =AH6 -> 44488 | AB11: =AI6 -> 44489 | AC11: =AJ6 -> 44490 | AD11: =AK6 -> 44491 | AE11: =AL6 -> 44492 | AF11: =AM6 -> 44493 | AG11: =AG7 -> 44494 | AH11: =AH7 -> 44495 | AI11: =AI7 -> 44496 | AJ11: =AJ7 -> 44497 | AK11: =AK7 -> 44498 | AL11: =AL7 -> 44499 | AM11: =AG8 -> 44501 | AN11: =AH8 -> 44502 | AO11: =AI8 -> 44503 | AP11: =AJ8 -> 44504 | AQ11: =AK8 -> 44505 | AR11: =AL8 -> 44506 | AT11: =AM8 -> 44507
B12: ='Riepilogo tsh'!B12 -> Institutional research | AU12: =SUM(E12:AT12) -> 0
B13: ='Riepilogo tsh'!B13 -> 0 | E13: =SUM(E14:E18) -> 0 | F13: =SUM(F14:F18) -> 0 | G13: =SUM(G14:G18) -> 0 | H13: =SUM(H14:H18) -> 0 | I13: =SUM(I14:I18) -> 0 | J13: =SUM(J14:J18) -> 0 | K13: =SUM(K14:K18) -> 0 | L13: =SUM(L14:L18) -> 0 | ... AT13: =SUM(AT14:AT18) -> 0 | AU13: =SUM(E13:AT13) -> 0
B14: ='Riepilogo tsh'!L13 -> WP1 | AU14: =SUM(E14:AT14) -> 0
B15: ='Riepilogo tsh'!M13 -> WP2 | AU15: =SUM(E15:AT15) -> 0
B16: ='Riepilogo tsh'!N13 -> WP3 | AU16: =SUM(E16:AT16) -> 0
B17: ='Riepilogo tsh'!O13 -> WP 4 | AU17: =SUM(E17:AT17) -> 0
B18: WP 5
B19: Teaching activities | AU19: =SUM(E19:AT19) -> 0
B20: Institutional activities | AU20: =SUM(E20:AT20) -> 0
B21: Other activities | AU21: =SUM(E21:AT21) -> 0
B22: Total hours | E22: =E12+E13+E19+E20+E21 -> 0 | F22: =F12+F13+F19+F20+F21 -> 0 | G22: =G12+G13+G19+G20+G21 -> 0 | H22: =H12+H13+H19+H20+H21 -> 0 | I22: =I12+I13+I19+I20+I21 -> 0 | J22: =J12+J13+J19+J20+J21 -> 0 | K22: =K12+K13+K19+K20+K21 -> 0 | L22: =L12+L13+L19+L20+L21 -> 0 | ... AT22: =AT12+AT13+AT19+AT20+AT21 -> 0 | AU22: =SUM(E22:AT22) -> 0
B24: Short description of the activities carried out in the month: | D24: ='Riepilogo tsh'!B13 -> 0
C30: Signed | AD30: Signed
C31: ='Riepilogo tsh'!B5 -> 0 | AD31: =G5 -> 0
C33: Date: | AC33: Date:

Sheet November
B1: Full name of beneficiary | G1: ='Riepilogo tsh'!B4 -> Università degli studi di Napoli Federico II-Dipartimento di Giurisprudenza | V1: Ruolo/Qualifica | Z1: ='Riepilogo tsh'!B8 -> 0 | AF1: 11 | AG1: November
AF2: =DATE(Anno,AF1,1) -> 44501 | AG2: Mo | AH2: Tu | AI2: We | AJ2: Th | AK2: Fr | AL2: Sa | AM2: Su | AV2: Go to summary
B3: Full name of employee | G3: ='Riepilogo tsh'!B5 -> 0 | V3: Classe | Z3: ='Riepilogo tsh'!B9 -> 0 | AG3: =(AF2-WEEKDAY(AF2,3)) -> 44501 | AH3: =AG3+1 -> 44502 | AI3: =AH3+1 -> 44503 | AJ3: =AI3+1 -> 44504 | AK3: =AJ3+1 -> 44505 | AL3: =AK3+1 -> 44506 | AM3: =AL3+1 -> 44507
AG4: =AM3+1 -> 44508 | AH4: =AG4+1 -> 44509 | AI4: =AH4+1 -> 44510 | AJ4: =AI4+1 -> 44511 | AK4: =AJ4+1 -> 44512 | AL4: =AK4+1 -> 44513 | AM4: =AL4+1 -> 44514
B5: Full name of Head of Dept. | G5: ='Riepilogo tsh'!B6 -> 0 | V5: Scatto | Z5: ='Riepilogo tsh'!#REF! -> #REF! | AG5: =AM4+1 -> 44515 | AH5: =AG5+1 -> 44516 | AI5: =AH5+1 -> 44517 | AJ5: =AI5+1 -> 44518 | AK5: =AJ5+1 -> 44519 | AL5: =AK5+1 -> 44520 | AM5: =AL5+1 -> 44521
AG6: =AM5+1 -> 44522 | AH6: =AG6+1 -> 44523 | AI6: =AH6+1 -> 44524 | AJ6: =AI6+1 -> 44525 | AK6: =AJ6+1 -> 44526 | AL6: =AK6+1 -> 44527 | AM6: =AL6+1 -> 44528
B7: Year | C7: ='Impostazioni calendario'!F6 -> 2021 | V7: Full/part-time | Z7: ='Riepilogo tsh'!B10 -> 0 | AG7: =AM6+1 -> 44529 | AH7: =AG7+1 -> 44530 | AI7: =AH7+1 -> 44531 | AJ7: =AI7+1 -> 44532 | AK7: =AJ7+1 -> 44533 | AL7: =AK7+1 -> 44534 | AM7: =AL7+1 -> 44535
AG8: =AM7+1 -> 44536 | AH8: =AG8+1 -> 44537 | AI8: =AH8+1 -> 44538 | AJ8: =AI8+1 -> 44539 | AK8: =AJ8+1 -> 44540 | AL8: =AK8+1 -> 44541 | AM8: =AL8+1 -> 44542
B10: =AG1 -> November | E10: Mo | F10: Tu | G10: We | H10: Th | I10: Fr | J10: Sa | K10: Su | L10: Mo | M10: Tu | N10: We | O10: Th | P10: Fr | Q10: Sa | R10: Su | S10: Mo | T10: Tu | U10: We | V10: Th | W10: Fr | X10: Sa | Y10: Su | Z10: Mo | AA10: Tu | AB10: We | AC10: Th | AD10: Fr | AE10: Sa | AF10: Su | AG10: Mo | AH10: Tu | AI10: We | AJ10: Th | AK10: Fr | AL10: Sa | AM10: Su | AN10: Mo | AO10: Tu | AP10: We | AQ10: Th | AR10: Fr | AS10: Sa | AT10: Su | AU10: Total
E11: =AG3 -> 44501 | F11: =AH3 -> 44502 | G11: =AI3 -> 44503 | H11: =AJ3 -> 44504 | I11: =AK3 -> 44505 | J11: =AL3 -> 44506 | K11: =AM3 -> 44507 | L11: =AG4 -> 44508 | M11: =AH4 -> 44509 | N11: =AI4 -> 44510 | O11: =AJ4 -> 44511 | P11: =AK4 -> 44512 | Q11: =AL4 -> 44513 | R11: =AM4 -> 44514 | S11: =AG5 -> 44515 | T11: =AH5 -> 44516 | U11: =AI5 -> 44517 | V11: =AJ5 -> 44518 | W11: =AK5 -> 44519 | X11: =AL5 -> 44520 | Y11: =AM5 -> 44521 | Z11: =AG6 -> 44522 | AA11: =AH6 -> 44523 | AB11: =AI6 -> 44524 | AC11: =AJ6 -> 44525 | AD11: =AK6 -> 44526 | AE11: =AL6 -> 44527 | AF11: =AM6 -> 44528 | AG11: =AG7 -> 44529 | AH11: =AH7 -> 44530 | AI11: =AI7 -> 44531 | AJ11: =AJ7 -> 44532 | AK11: =AK7 -> 44533 | AL11: =AL7 -> 44534 | AM11: =AG8 -> 44536 | AN11: =AH8 -> 44537 | AO11: =AI8 -> 44538 | AP11: =AJ8 -> 44539 | AQ11: =AK8 -> 44540 | AR11: =AL8 -> 44541 | AT11: =AM8 -> 44542
B12: ='Riepilogo tsh'!B12 -> Institutional research | AU12: =SUM(E12:AT12) -> 0
B13: ='Riepilogo tsh'!B13 -> 0 | E13: =SUM(E14:E18) -> 0 | F13: =SUM(F14:F18) -> 0 | G13: =SUM(G14:G18) -> 0 | H13: =SUM(H14:H18) -> 0 | I13: =SUM(I14:I18) -> 0 | J13: =SUM(J14:J18) -> 0 | K13: =SUM(K14:K18) -> 0 | L13: =SUM(L14:L18) -> 0 | ... AT13: =SUM(AT14:AT18) -> 0 | AU13: =SUM(E13:AT13) -> 0
B14: ='Riepilogo tsh'!L13 -> WP1 | AU14: =SUM(E14:AT14) -> 0
B15: ='Riepilogo tsh'!M13 -> WP2 | AU15: =SUM(E15:AT15) -> 0
B16: ='Riepilogo tsh'!N13 -> WP3 | AU16: =SUM(E16:AT16) -> 0
B17: ='Riepilogo tsh'!O13 -> WP 4 | AU17: =SUM(E17:AT17) -> 0
B18: WP 5
B19: Teaching activities | AU19: =SUM(E19:AT19) -> 0
B20: Institutional activities | AU20: =SUM(E20:AT20) -> 0
B21: Other activities | AU21: =SUM(E21:AT21) -> 0
B22: Total hours | E22: =E12+E13+E19+E20+E21 -> 0 | F22: =F12+F13+F19+F20+F21 -> 0 | G22: =G12+G13+G19+G20+G21 -> 0 | H22: =H12+H13+H19+H20+H21 -> 0 | I22: =I12+I13+I19+I20+I21 -> 0 | J22: =J12+J13+J19+J20+J21 -> 0 | K22: =K12+K13+K19+K20+K21 -> 0 | L22: =L12+L13+L19+L20+L21 -> 0 | ... AT22: =AT12+AT13+AT19+AT20+AT21 -> 0 | AU22: =SUM(E22:AT22) -> 0
B24: Short description of the activities carried out in the month: | D24: ='Riepilogo tsh'!B13 -> 0
C30: Signed | AD30: Signed
C31: ='Riepilogo tsh'!B5 -> 0 | AD31: =G5 -> 0
C33: Date: | AC33: Date:

Sheet December
B1: Full name of beneficiary | G1: ='Riepilogo tsh'!B4 -> Università degli studi di Napoli Federico II-Dipartimento di Giurisprudenza | AF1: 12 | AG1: December
AF2: =DATE(Anno,AF1,1) -> 44531 | AG2: Mo | AH2: Tu | AI2: We | AJ2: Th | AK2: Fr | AL2: Sa | AM2: Su | AV2: Go to summary
B3: Full name of employee | G3: ='Riepilogo tsh'!B5 -> 0 | AG3: =(AF2-WEEKDAY(AF2,3)) -> 44529 | AH3: =AG3+1 -> 44530 | AI3: =AH3+1 -> 44531 | AJ3: =AI3+1 -> 44532 | AK3: =AJ3+1 -> 44533 | AL3: =AK3+1 -> 44534 | AM3: =AL3+1 -> 44535
AG4: =AM3+1 -> 44536 | AH4: =AG4+1 -> 44537 | AI4: =AH4+1 -> 44538 | AJ4: =AI4+1 -> 44539 | AK4: =AJ4+1 -> 44540 | AL4: =AK4+1 -> 44541 | AM4: =AL4+1 -> 44542
B5: Full name of Head of Dept. | G5: ='Riepilogo tsh'!B6 -> 0 | AG5: =AM4+1 -> 44543 | AH5: =AG5+1 -> 44544 | AI5: =AH5+1 -> 44545 | AJ5: =AI5+1 -> 44546 | AK5: =AJ5+1 -> 44547 | AL5: =AK5+1 -> 44548 | AM5: =AL5+1 -> 44549
AG6: =AM5+1 -> 44550 | AH6: =AG6+1 -> 44551 | AI6: =AH6+1 -> 44552 | AJ6: =AI6+1 -> 44553 | AK6: =AJ6+1 -> 44554 | AL6: =AK6+1 -> 44555 | AM6: =AL6+1 -> 44556
B7: Year | C7: ='Impostazioni calendario'!F6 -> 2021 | AG7: =AM6+1 -> 44557 | AH7: =AG7+1 -> 44558 | AI7: =AH7+1 -> 44559 | AJ7: =AI7+1 -> 44560 | AK7: =AJ7+1 -> 44561 | AL7: =AK7+1 -> 44562 | AM7: =AL7+1 -> 44563
AG8: =AM7+1 -> 44564 | AH8: =AG8+1 -> 44565 | AI8: =AH8+1 -> 44566 | AJ8: =AI8+1 -> 44567 | AK8: =AJ8+1 -> 44568 | AL8: =AK8+1 -> 44569 | AM8: =AL8+1 -> 44570
B10: =AG1 -> December | E10: Mo | F10: Tu | G10: We | H10: Th | I10: Fr | J10: Sa | K10: Su | L10: Mo | M10: Tu | N10: We | O10: Th | P10: Fr | Q10: Sa | R10: Su | S10: Mo | T10: Tu | U10: We | V10: Th | W10: Fr | X10: Sa | Y10: Su | Z10: Mo | AA10: Tu | AB10: We | AC10: Th | AD10: Fr | AE10: Sa | AF10: Su | AG10: Mo | AH10: Tu | AI10: We | AJ10: Th | AK10: Fr | AL10: Sa | AM10: Su | AN10: Mo | AO10: Tu | AP10: We | AQ10: Th | AR10: Fr | AS10: Sa | AT10: Su | AU10: Total
E11: =AG3 -> 44529 | F11: =AH3 -> 44530 | G11: =AI3 -> 44531 | H11: =AJ3 -> 44532 | I11: =AK3 -> 44533 | J11: =AL3 -> 44534 | K11: =AM3 -> 44535 | L11: =AG4 -> 44536 | M11: =AH4 -> 44537 | N11: =AI4 -> 44538 | O11: =AJ4 -> 44539 | P11: =AK4 -> 44540 | Q11: =AL4 -> 44541 | R11: =AM4 -> 44542 | S11: =AG5 -> 44543 | T11: =AH5 -> 44544 | U11: =AI5 -> 44545 | V11: =AJ5 -> 44546 | W11: =AK5 -> 44547 | X11: =AL5 -> 44548 | Y11: =AM5 -> 44549 | Z11: =AG6 -> 44550 | AA11: =AH6 -> 44551 | AB11: =AI6 -> 44552 | AC11: =AJ6 -> 44553 | AD11: =AK6 -> 44554 | AE11: =AL6 -> 44555 | AF11: =AM6 -> 44556 | AG11: =AG7 -> 44557 | AH11: =AH7 -> 44558 | AI11: =AI7 -> 44559 | AJ11: =AJ7 -> 44560 | AK11: =AK7 -> 44561 | AL11: =AL7 -> 44562 | AM11: =AG8 -> 44564 | AN11: =AH8 -> 44565 | AO11: =AI8 -> 44566 | AP11: =AJ8 -> 44567 | AQ11: =AK8 -> 44568 | AR11: =AL8 -> 44569 | AT11: =AM8 -> 44570
B12: ='Riepilogo tsh'!B12 -> Institutional research | AU12: =SUM(E12:AT12) -> 0
B13: ='Riepilogo tsh'!B13 -> 0 | E13: =SUM(E14:E18) -> 0 | F13: =SUM(F14:F18) -> 0 | G13: =SUM(G14:G18) -> 0 | H13: =SUM(H14:H18) -> 0 | I13: =SUM(I14:I18) -> 0 | J13: =SUM(J14:J18) -> 0 | K13: =SUM(K14:K18) -> 0 | L13: =SUM(L14:L18) -> 0 | ... AT13: =SUM(AT14:AT18) -> 0 | AU13: =SUM(E13:AT13) -> 0
B14: ='Riepilogo tsh'!L13 -> WP1 | AU14: =SUM(E14:AT14) -> 0
B15: ='Riepilogo tsh'!M13 -> WP2 | AU15: =SUM(E15:AT15) -> 0
B16: ='Riepilogo tsh'!N13 -> WP3 | AU16: =SUM(E16:AT16) -> 0
B17: ='Riepilogo tsh'!O13 -> WP 4 | AU17: =SUM(E17:AT17) -> 0
B18: WP 5
B19: Teaching activities | AU19: =SUM(E19:AT19) -> 0
B20: Institutional activities | AU20: =SUM(E20:AT20) -> 0
B21: Other activities | AU21: =SUM(E21:AT21) -> 0
B22: Total hours | E22: =E12+E13+E19+E20+E21 -> 0 | F22: =F12+F13+F19+F20+F21 -> 0 | G22: =G12+G13+G19+G20+G21 -> 0 | H22: =H12+H13+H19+H20+H21 -> 0 | I22: =I12+I13+I19+I20+I21 -> 0 | J22: =J12+J13+J19+J20+J21 -> 0 | K22: =K12+K13+K19+K20+K21 -> 0 | L22: =L12+L13+L19+L20+L21 -> 0 | ... AT22: =AT12+AT13+AT19+AT20+AT21 -> 0 | AU22: =SUM(E22:AT22) -> 0
B24: Short description of the activities carried out in the month: | D24: ='Riepilogo tsh'!B13 -> 0
C30: Signed | AD30: Signed
C31: ='Riepilogo tsh'!B5 -> 0 | AD31: =G5 -> 0
C33: Date: | AC33: Date:
